BEGIN:VCALENDAR
VERSION:2.0
PRODID:-//Water Street Inn - ECPv6.15.20//NONSGML v1.0//EN
CALSCALE:GREGORIAN
METHOD:PUBLISH
X-WR-CALNAME:Water Street Inn
X-ORIGINAL-URL:https://waterstreetinn.loganmarketing.com
X-WR-CALDESC:Events for Water Street Inn
REFRESH-INTERVAL;VALUE=DURATION:PT1H
X-Robots-Tag:noindex
X-PUBLISHED-TTL:PT1H
BEGIN:VTIMEZONE
TZID:UTC
BEGIN:STANDARD
TZOFFSETFROM:+0000
TZOFFSETTO:+0000
TZNAME:UTC
DTSTART:20250101T000000
END:STANDARD
END:VTIMEZONE
BEGIN:VEVENT
DTSTART;TZID=UTC:20260424T190000
DTEND;TZID=UTC:20260424T230000
DTSTAMP:20260424T093840
CREATED:20251224T005911Z
LAST-MODIFIED:20251224T005911Z
UID:10000508-1777057200-1777071600@waterstreetinn.loganmarketing.com
SUMMARY:Bonnie Drunken Lad Live at Charlie’s Restaurant and Irish Pub
DESCRIPTION:Bonnie Drunken Lad. A group of 4 lads and 1 lass (all with questionable Celtic heritage) with an interest in traditional and modern Irish drinking songs\, war anthems\, historical oddities\, sea shanties\, and anything Luke Kelly sings.  They practice in a shack in Apple Valley\, MN. Five miscreants\, one Bonnie Drunken Lad.
URL:https://waterstreetinn.loganmarketing.com/event/bonnie-drunken-lad-live-at-charlies-restaurant-and-irish-pub-10/
ATTACH;FMTTYPE=image/jpeg:https://waterstreetinn.loganmarketing.com/wp-content/uploads/2026/01/Bonnie-Drunken-Lad.jpg
END:VEVENT
BEGIN:VEVENT
DTSTART;TZID=UTC:20260425T190000
DTEND;TZID=UTC:20260425T230000
DTSTAMP:20260424T093840
CREATED:20251224T005958Z
LAST-MODIFIED:20251224T005958Z
UID:10000509-1777143600-1777158000@waterstreetinn.loganmarketing.com
SUMMARY:Bonnie Drunken Lad Live at Charlie’s Restaurant and Irish Pub
DESCRIPTION:Bonnie Drunken Lad. A group of 4 lads and 1 lass (all with questionable Celtic heritage) with an interest in traditional and modern Irish drinking songs\, war anthems\, historical oddities\, sea shanties\, and anything Luke Kelly sings.  They practice in a shack in Apple Valley\, MN. Five miscreants\, one Bonnie Drunken Lad.
URL:https://waterstreetinn.loganmarketing.com/event/bonnie-drunken-lad-live-at-charlies-restaurant-and-irish-pub-11/
ATTACH;FMTTYPE=image/jpeg:https://waterstreetinn.loganmarketing.com/wp-content/uploads/2026/01/Bonnie-Drunken-Lad.jpg
END:VEVENT
BEGIN:VEVENT
DTSTART;TZID=UTC:20260430T173000
DTEND;TZID=UTC:20260430T203000
DTSTAMP:20260424T093840
CREATED:20251224T032800Z
LAST-MODIFIED:20260126T151456Z
UID:10000529-1777570200-1777581000@waterstreetinn.loganmarketing.com
SUMMARY:Stillwater Music Friends Acoustic Jam Band
DESCRIPTION:Every other week\, a group of friends gathers at Charlie’s Restaurant & Irish Pub from 5:30 to 8:30 PM for an acoustic jam session. They perform a diverse selection of music\, including Classic Rock\, Country\, R&B\, Jazz\, and Latin\, while also welcoming audience requests and contributions from fellow musicians. The session is entirely unplugged\, with the exception of the bass. The atmosphere is inviting\, and the music creates a lively and enjoyable experience for all.
URL:https://waterstreetinn.loganmarketing.com/event/stillwater-music-friends-acoustic-jam-band-32/
ATTACH;FMTTYPE=image/jpeg:https://waterstreetinn.loganmarketing.com/wp-content/uploads/2026/01/498588231_1299491725515600_1123032904237267724_n-1.jpg
END:VEVENT
END:VCALENDAR