BEGIN:VCALENDAR
VERSION:2.0
PRODID:-//Water Street Inn - ECPv6.15.20//NONSGML v1.0//EN
CALSCALE:GREGORIAN
METHOD:PUBLISH
X-ORIGINAL-URL:https://waterstreetinn.loganmarketing.com
X-WR-CALDESC:Events for Water Street Inn
REFRESH-INTERVAL;VALUE=DURATION:PT1H
X-Robots-Tag:noindex
X-PUBLISHED-TTL:PT1H
BEGIN:VTIMEZONE
TZID:UTC
BEGIN:STANDARD
TZOFFSETFROM:+0000
TZOFFSETTO:+0000
TZNAME:UTC
DTSTART:20250101T000000
END:STANDARD
END:VTIMEZONE
BEGIN:VEVENT
DTSTART;TZID=UTC:20260718T190000
DTEND;TZID=UTC:20260718T230000
DTSTAMP:20260425T062757
CREATED:20260110T025355Z
LAST-MODIFIED:20260110T025355Z
UID:10000557-1784401200-1784415600@waterstreetinn.loganmarketing.com
SUMMARY:The Broken Spoke Live at Charlie’s Restaurant and Irish Pub
DESCRIPTION:A high-energy Irish/folk band based in Saint Paul\, MN highlighting the sweet stringed sounds of the fiddle\, stand-up bass\, guitar\, and mandolin. Traditional Irish Music and Irish Rock with a twist! Broken Spoke never fail to deliver an outstanding performance that will have you up on your feet before you know it! \n 
URL:https://waterstreetinn.loganmarketing.com/event/the-broken-spoke-live-at-charlies-restaurant-and-irish-pub-16/
ATTACH;FMTTYPE=image/jpeg:https://waterstreetinn.loganmarketing.com/wp-content/uploads/2026/01/354204801_751603206971124_2100205559362048548_n-1.jpg
END:VEVENT
BEGIN:VEVENT
DTSTART;TZID=UTC:20260723T173000
DTEND;TZID=UTC:20260723T203000
DTSTAMP:20260425T062757
CREATED:20251224T033909Z
LAST-MODIFIED:20260126T151500Z
UID:10000535-1784827800-1784838600@waterstreetinn.loganmarketing.com
SUMMARY:Stillwater Music Friends Acoustic Jam Band
DESCRIPTION:Every other week\, a group of friends gathers at Charlie’s Restaurant & Irish Pub from 5:30 to 8:30 PM for an acoustic jam session. They perform a diverse selection of music\, including Classic Rock\, Country\, R&B\, Jazz\, and Latin\, while also welcoming audience requests and contributions from fellow musicians. The session is entirely unplugged\, with the exception of the bass. The atmosphere is inviting\, and the music creates a lively and enjoyable experience for all.
URL:https://waterstreetinn.loganmarketing.com/event/stillwater-music-friends-acoustic-jam-band-38/
ATTACH;FMTTYPE=image/jpeg:https://waterstreetinn.loganmarketing.com/wp-content/uploads/2026/01/498588231_1299491725515600_1123032904237267724_n-1.jpg
END:VEVENT
BEGIN:VEVENT
DTSTART;TZID=UTC:20260724T190000
DTEND;TZID=UTC:20260724T230000
DTSTAMP:20260425T062757
CREATED:20260110T025648Z
LAST-MODIFIED:20260110T025648Z
UID:10000558-1784919600-1784934000@waterstreetinn.loganmarketing.com
SUMMARY:Fiddle & Flannels Live Charlie’s Restaurant and Irish Pub
DESCRIPTION:Fiddle and Flannels is a talented ensemble of musicians who specialize in delivering a captivating blend of classic country and lively Irish jigs. With their infectious energy and mastery of their instruments\, they’ll transport you to a world of heartwarming melodies and foot-stomping rhythms. Fiddle and Flannels is your go-to choice for an unforgettable musical experience. \n 
URL:https://waterstreetinn.loganmarketing.com/event/fiddle-flannels-live-charlies-restaurant-and-irish-pub-7/
ATTACH;FMTTYPE=image/jpeg:https://waterstreetinn.loganmarketing.com/wp-content/uploads/2026/01/426457756_264756873312753_2270774576212792925_n-1536x1024-1.jpg
END:VEVENT
BEGIN:VEVENT
DTSTART;TZID=UTC:20260725T190000
DTEND;TZID=UTC:20260725T230000
DTSTAMP:20260425T062757
CREATED:20260110T025741Z
LAST-MODIFIED:20260110T025741Z
UID:10000559-1785006000-1785020400@waterstreetinn.loganmarketing.com
SUMMARY:Fiddle & Flannels Live Charlie’s Restaurant and Irish Pub
DESCRIPTION:Fiddle and Flannels is a talented ensemble of musicians who specialize in delivering a captivating blend of classic country and lively Irish jigs. With their infectious energy and mastery of their instruments\, they’ll transport you to a world of heartwarming melodies and foot-stomping rhythms. Fiddle and Flannels is your go-to choice for an unforgettable musical experience.
URL:https://waterstreetinn.loganmarketing.com/event/fiddle-flannels-live-charlies-restaurant-and-irish-pub-8/
ATTACH;FMTTYPE=image/jpeg:https://waterstreetinn.loganmarketing.com/wp-content/uploads/2026/01/426457756_264756873312753_2270774576212792925_n-1536x1024-1.jpg
END:VEVENT
BEGIN:VEVENT
DTSTART;TZID=UTC:20260806T173000
DTEND;TZID=UTC:20260806T203000
DTSTAMP:20260425T062757
CREATED:20251224T033949Z
LAST-MODIFIED:20260126T151500Z
UID:10000536-1786037400-1786048200@waterstreetinn.loganmarketing.com
SUMMARY:Stillwater Music Friends Acoustic Jam Band
DESCRIPTION:Every other week\, a group of friends gathers at Charlie’s Restaurant & Irish Pub from 5:30 to 8:30 PM for an acoustic jam session. They perform a diverse selection of music\, including Classic Rock\, Country\, R&B\, Jazz\, and Latin\, while also welcoming audience requests and contributions from fellow musicians. The session is entirely unplugged\, with the exception of the bass. The atmosphere is inviting\, and the music creates a lively and enjoyable experience for all.
URL:https://waterstreetinn.loganmarketing.com/event/stillwater-music-friends-acoustic-jam-band-39/
ATTACH;FMTTYPE=image/jpeg:https://waterstreetinn.loganmarketing.com/wp-content/uploads/2026/01/498588231_1299491725515600_1123032904237267724_n-1.jpg
END:VEVENT
BEGIN:VEVENT
DTSTART;TZID=UTC:20260807T190000
DTEND;TZID=UTC:20260807T230000
DTSTAMP:20260425T062757
CREATED:20260110T030510Z
LAST-MODIFIED:20260110T030510Z
UID:10000560-1786129200-1786143600@waterstreetinn.loganmarketing.com
SUMMARY:Bedlam Live at Charlie’s Restaurant and Irish Pub
DESCRIPTION:Bedlam is a band born out of the talent pool of the MN Renaissance Festival. Over the years\, the band has had a diverse sound and many different members. Its recent incarnation is a folk band with a hippie attitude. Many familiar songs with a different slant along with some original material as well. As the name implies a stage with this group on it is not a very stable one and you never know who may show up and sit in on a set \n 
URL:https://waterstreetinn.loganmarketing.com/event/bedlam-live-at-charlies-restaurant-and-irish-pub-64/
ATTACH;FMTTYPE=image/jpeg:https://waterstreetinn.loganmarketing.com/wp-content/uploads/2026/01/Bedlam-2.jpg
END:VEVENT
BEGIN:VEVENT
DTSTART;TZID=UTC:20260808T190000
DTEND;TZID=UTC:20260808T230000
DTSTAMP:20260425T062757
CREATED:20260110T030550Z
LAST-MODIFIED:20260110T030550Z
UID:10000561-1786215600-1786230000@waterstreetinn.loganmarketing.com
SUMMARY:Bedlam Live at Charlie’s Restaurant and Irish Pub
DESCRIPTION:Bedlam is a band born out of the talent pool of the MN Renaissance Festival. Over the years\, the band has had a diverse sound and many different members. Its recent incarnation is a folk band with a hippie attitude. Many familiar songs with a different slant along with some original material as well. As the name implies a stage with this group on it is not a very stable one and you never know who may show up and sit in on a set
URL:https://waterstreetinn.loganmarketing.com/event/bedlam-live-at-charlies-restaurant-and-irish-pub-65/
ATTACH;FMTTYPE=image/jpeg:https://waterstreetinn.loganmarketing.com/wp-content/uploads/2026/01/Bedlam-2.jpg
END:VEVENT
BEGIN:VEVENT
DTSTART;TZID=UTC:20260814T190000
DTEND;TZID=UTC:20260814T230000
DTSTAMP:20260425T062757
CREATED:20260110T030740Z
LAST-MODIFIED:20260110T030740Z
UID:10000562-1786734000-1786748400@waterstreetinn.loganmarketing.com
SUMMARY:Twin Prop Jane Live at Live at Charlie’s Restaurant and Irish Pub
DESCRIPTION:Stowaway folk sessions by Tam Jones\, Courtney Buck\, and Dee Brust featuring vocal harmonies\, fiddles\, banjo\, mandolin\, and guitar.Stowaway folk sessions by Tam Jones\, Courtney Buck\, and Dee Brust featuring vocal harmonies\, fiddles\, banjo\, mandolin\, and guitar.
URL:https://waterstreetinn.loganmarketing.com/event/twin-prop-jane-live-at-live-at-charlies-restaurant-and-irish-pub-7/
ATTACH;FMTTYPE=image/jpeg:https://waterstreetinn.loganmarketing.com/wp-content/uploads/2026/01/495047649_122155507664503962_4423974609505888688_n-1.jpg
END:VEVENT
BEGIN:VEVENT
DTSTART;TZID=UTC:20260815T190000
DTEND;TZID=UTC:20260815T230000
DTSTAMP:20260425T062757
CREATED:20260110T030824Z
LAST-MODIFIED:20260110T030824Z
UID:10000563-1786820400-1786834800@waterstreetinn.loganmarketing.com
SUMMARY:Twin Prop Jane Live at Live at Charlie’s Restaurant and Irish Pub
DESCRIPTION:Stowaway folk sessions by Tam Jones\, Courtney Buck\, and Dee Brust featuring vocal harmonies\, fiddles\, banjo\, mandolin\, and guitar.Stowaway folk sessions by Tam Jones\, Courtney Buck\, and Dee Brust featuring vocal harmonies\, fiddles\, banjo\, mandolin\, and guitar. \n 
URL:https://waterstreetinn.loganmarketing.com/event/twin-prop-jane-live-at-live-at-charlies-restaurant-and-irish-pub-8/
ATTACH;FMTTYPE=image/jpeg:https://waterstreetinn.loganmarketing.com/wp-content/uploads/2026/01/495047649_122155507664503962_4423974609505888688_n-1.jpg
END:VEVENT
BEGIN:VEVENT
DTSTART;TZID=UTC:20260820T173000
DTEND;TZID=UTC:20260820T203000
DTSTAMP:20260425T062757
CREATED:20251224T034031Z
LAST-MODIFIED:20260126T151501Z
UID:10000537-1787247000-1787257800@waterstreetinn.loganmarketing.com
SUMMARY:Stillwater Music Friends Acoustic Jam Band
DESCRIPTION:Every other week\, a group of friends gathers at Charlie’s Restaurant & Irish Pub from 5:30 to 8:30 PM for an acoustic jam session. They perform a diverse selection of music\, including Classic Rock\, Country\, R&B\, Jazz\, and Latin\, while also welcoming audience requests and contributions from fellow musicians. The session is entirely unplugged\, with the exception of the bass. The atmosphere is inviting\, and the music creates a lively and enjoyable experience for all.
URL:https://waterstreetinn.loganmarketing.com/event/stillwater-music-friends-acoustic-jam-band-40/
ATTACH;FMTTYPE=image/jpeg:https://waterstreetinn.loganmarketing.com/wp-content/uploads/2026/01/498588231_1299491725515600_1123032904237267724_n-1.jpg
END:VEVENT
BEGIN:VEVENT
DTSTART;TZID=UTC:20260821T190000
DTEND;TZID=UTC:20260821T230000
DTSTAMP:20260425T062757
CREATED:20260110T030934Z
LAST-MODIFIED:20260110T030934Z
UID:10000564-1787338800-1787353200@waterstreetinn.loganmarketing.com
SUMMARY:The Broken Spoke Live at Charlie’s Restaurant and Irish Pub
DESCRIPTION:A high-energy Irish/folk band based in Saint Paul\, MN highlighting the sweet stringed sounds of the fiddle\, stand-up bass\, guitar\, and mandolin. Traditional Irish Music and Irish Rock with a twist! Broken Spoke never fail to deliver an outstanding performance that will have you up on your feet before you know it! \n 
URL:https://waterstreetinn.loganmarketing.com/event/the-broken-spoke-live-at-charlies-restaurant-and-irish-pub-17/
ATTACH;FMTTYPE=image/jpeg:https://waterstreetinn.loganmarketing.com/wp-content/uploads/2026/01/354204801_751603206971124_2100205559362048548_n-1.jpg
END:VEVENT
BEGIN:VEVENT
DTSTART;TZID=UTC:20260822T190000
DTEND;TZID=UTC:20260822T230000
DTSTAMP:20260425T062757
CREATED:20260110T031027Z
LAST-MODIFIED:20260110T031027Z
UID:10000565-1787425200-1787439600@waterstreetinn.loganmarketing.com
SUMMARY:The Broken Spoke Live at Charlie’s Restaurant and Irish Pub
DESCRIPTION:A high-energy Irish/folk band based in Saint Paul\, MN highlighting the sweet stringed sounds of the fiddle\, stand-up bass\, guitar\, and mandolin. Traditional Irish Music and Irish Rock with a twist! Broken Spoke never fail to deliver an outstanding performance that will have you up on your feet before you know it!
URL:https://waterstreetinn.loganmarketing.com/event/the-broken-spoke-live-at-charlies-restaurant-and-irish-pub-18/
ATTACH;FMTTYPE=image/jpeg:https://waterstreetinn.loganmarketing.com/wp-content/uploads/2026/01/354204801_751603206971124_2100205559362048548_n-1.jpg
END:VEVENT
BEGIN:VEVENT
DTSTART;TZID=UTC:20260828T190000
DTEND;TZID=UTC:20260828T230000
DTSTAMP:20260425T062757
CREATED:20260110T031212Z
LAST-MODIFIED:20260110T031212Z
UID:10000566-1787943600-1787958000@waterstreetinn.loganmarketing.com
SUMMARY:Bonnie Drunken Lad Live Charlie’s Restaurant and Irish Pub
DESCRIPTION:Bonnie Drunken Lad. A group of 4 lads and 1 lass (all with questionable Celtic heritage) with an\ninterest in traditional and modern Irish drinking songs\, war anthems\, historical oddities\, sea shanties\,\nand anything Luke Kelly sings.  They practice in a shack in Apple Valley\, MN. Five miscreants\, one\nBonnie Drunken Lad. \n 
URL:https://waterstreetinn.loganmarketing.com/event/bonnie-drunken-lad-live-charlies-restaurant-and-irish-pub-5/
ATTACH;FMTTYPE=image/jpeg:https://waterstreetinn.loganmarketing.com/wp-content/uploads/2026/01/Bonnie-Drunken-Lad-1.jpg
END:VEVENT
BEGIN:VEVENT
DTSTART;TZID=UTC:20260829T190000
DTEND;TZID=UTC:20260829T230000
DTSTAMP:20260425T062757
CREATED:20260110T031255Z
LAST-MODIFIED:20260110T031255Z
UID:10000567-1788030000-1788044400@waterstreetinn.loganmarketing.com
SUMMARY:Bonnie Drunken Lad Live Charlie’s Restaurant and Irish Pub
DESCRIPTION:Bonnie Drunken Lad. A group of 4 lads and 1 lass (all with questionable Celtic heritage) with an\ninterest in traditional and modern Irish drinking songs\, war anthems\, historical oddities\, sea shanties\,\nand anything Luke Kelly sings.  They practice in a shack in Apple Valley\, MN. Five miscreants\, one\nBonnie Drunken Lad.
URL:https://waterstreetinn.loganmarketing.com/event/bonnie-drunken-lad-live-charlies-restaurant-and-irish-pub-6/
ATTACH;FMTTYPE=image/jpeg:https://waterstreetinn.loganmarketing.com/wp-content/uploads/2026/01/Bonnie-Drunken-Lad-1.jpg
END:VEVENT
BEGIN:VEVENT
DTSTART;TZID=UTC:20260903T173000
DTEND;TZID=UTC:20260903T203000
DTSTAMP:20260425T062757
CREATED:20251224T034109Z
LAST-MODIFIED:20260126T151501Z
UID:10000538-1788456600-1788467400@waterstreetinn.loganmarketing.com
SUMMARY:Stillwater Music Friends Acoustic Jam Band
DESCRIPTION:Every other week\, a group of friends gathers at Charlie’s Restaurant & Irish Pub from 5:30 to 8:30 PM for an acoustic jam session. They perform a diverse selection of music\, including Classic Rock\, Country\, R&B\, Jazz\, and Latin\, while also welcoming audience requests and contributions from fellow musicians. The session is entirely unplugged\, with the exception of the bass. The atmosphere is inviting\, and the music creates a lively and enjoyable experience for all.
URL:https://waterstreetinn.loganmarketing.com/event/stillwater-music-friends-acoustic-jam-band-41/
ATTACH;FMTTYPE=image/jpeg:https://waterstreetinn.loganmarketing.com/wp-content/uploads/2026/01/498588231_1299491725515600_1123032904237267724_n-1.jpg
END:VEVENT
BEGIN:VEVENT
DTSTART;TZID=UTC:20260904T190000
DTEND;TZID=UTC:20260904T230000
DTSTAMP:20260425T062757
CREATED:20260110T031455Z
LAST-MODIFIED:20260110T031455Z
UID:10000568-1788548400-1788562800@waterstreetinn.loganmarketing.com
SUMMARY:Bedlam Live at Charlie’s Restaurant and Irish Pub
DESCRIPTION:Bedlam is a band born out of the talent pool of the MN Renaissance Festival. Over the years\, the band has had a diverse sound and many different members. Its recent incarnation is a folk band with a hippie attitude. Many familiar songs with a different slant along with some original material as well. As the name implies a stage with this group on it is not a very stable one and you never know who may show up and sit in on a set!
URL:https://waterstreetinn.loganmarketing.com/event/bedlam-live-at-charlies-restaurant-and-irish-pub-66/
ATTACH;FMTTYPE=image/jpeg:https://waterstreetinn.loganmarketing.com/wp-content/uploads/2026/01/Bedlam-2.jpg
END:VEVENT
BEGIN:VEVENT
DTSTART;TZID=UTC:20260905T070000
DTEND;TZID=UTC:20260905T230000
DTSTAMP:20260425T062757
CREATED:20260110T031540Z
LAST-MODIFIED:20260110T031540Z
UID:10000569-1788591600-1788649200@waterstreetinn.loganmarketing.com
SUMMARY:Bedlam Live at Charlie’s Restaurant and Irish Pub
DESCRIPTION:Bedlam is a band born out of the talent pool of the MN Renaissance Festival. Over the years\, the band has had a diverse sound and many different members. Its recent incarnation is a folk band with a hippie attitude. Many familiar songs with a different slant along with some original material as well. As the name implies a stage with this group on it is not a very stable one and you never know who may show up and sit in on a set!
URL:https://waterstreetinn.loganmarketing.com/event/bedlam-live-at-charlies-restaurant-and-irish-pub-67/
ATTACH;FMTTYPE=image/jpeg:https://waterstreetinn.loganmarketing.com/wp-content/uploads/2026/01/Bedlam-2.jpg
END:VEVENT
BEGIN:VEVENT
DTSTART;TZID=UTC:20260911T190000
DTEND;TZID=UTC:20260911T230000
DTSTAMP:20260425T062757
CREATED:20260110T031709Z
LAST-MODIFIED:20260110T031709Z
UID:10000570-1789153200-1789167600@waterstreetinn.loganmarketing.com
SUMMARY:Fiddle & Flannels Live Charlie’s Restaurant and Irish Pub
DESCRIPTION:Fiddle and Flannels is a talented ensemble of musicians who specialize in delivering a captivating blend of classic country and lively Irish jigs. With their infectious energy and mastery of their instruments\, they’ll transport you to a world of heartwarming melodies and foot-stomping rhythms. Fiddle and Flannels is your go-to choice for an unforgettable musical experience.
URL:https://waterstreetinn.loganmarketing.com/event/fiddle-flannels-live-charlies-restaurant-and-irish-pub-9/
ATTACH;FMTTYPE=image/jpeg:https://waterstreetinn.loganmarketing.com/wp-content/uploads/2026/01/426457756_264756873312753_2270774576212792925_n-1536x1024-1.jpg
END:VEVENT
BEGIN:VEVENT
DTSTART;TZID=UTC:20260912T190000
DTEND;TZID=UTC:20260912T230000
DTSTAMP:20260425T062757
CREATED:20260110T031742Z
LAST-MODIFIED:20260110T031742Z
UID:10000571-1789239600-1789254000@waterstreetinn.loganmarketing.com
SUMMARY:Fiddle & Flannels Live Charlie’s Restaurant and Irish Pub
DESCRIPTION:Fiddle and Flannels is a talented ensemble of musicians who specialize in delivering a captivating blend of classic country and lively Irish jigs. With their infectious energy and mastery of their instruments\, they’ll transport you to a world of heartwarming melodies and foot-stomping rhythms. Fiddle and Flannels is your go-to choice for an unforgettable musical experience.
URL:https://waterstreetinn.loganmarketing.com/event/fiddle-flannels-live-charlies-restaurant-and-irish-pub-10/
ATTACH;FMTTYPE=image/jpeg:https://waterstreetinn.loganmarketing.com/wp-content/uploads/2026/01/426457756_264756873312753_2270774576212792925_n-1536x1024-1.jpg
END:VEVENT
BEGIN:VEVENT
DTSTART;TZID=UTC:20260917T173000
DTEND;TZID=UTC:20260917T203000
DTSTAMP:20260425T062757
CREATED:20251224T034142Z
LAST-MODIFIED:20260126T151505Z
UID:10000539-1789666200-1789677000@waterstreetinn.loganmarketing.com
SUMMARY:Stillwater Music Friends Acoustic Jam Band
DESCRIPTION:Every other week\, a group of friends gathers at Charlie’s Restaurant & Irish Pub from 5:30 to 8:30 PM for an acoustic jam session. They perform a diverse selection of music\, including Classic Rock\, Country\, R&B\, Jazz\, and Latin\, while also welcoming audience requests and contributions from fellow musicians. The session is entirely unplugged\, with the exception of the bass. The atmosphere is inviting\, and the music creates a lively and enjoyable experience for all.
URL:https://waterstreetinn.loganmarketing.com/event/stillwater-music-friends-acoustic-jam-band-42/
ATTACH;FMTTYPE=image/jpeg:https://waterstreetinn.loganmarketing.com/wp-content/uploads/2026/01/498588231_1299491725515600_1123032904237267724_n-1.jpg
END:VEVENT
BEGIN:VEVENT
DTSTART;TZID=UTC:20260918T190000
DTEND;TZID=UTC:20260918T230000
DTSTAMP:20260425T062757
CREATED:20260110T031829Z
LAST-MODIFIED:20260110T031829Z
UID:10000572-1789758000-1789772400@waterstreetinn.loganmarketing.com
SUMMARY:The Broken Spoke Live at Charlie’s Restaurant and Irish Pub
DESCRIPTION:A high-energy Irish/folk band based in Saint Paul\, MN highlighting the sweet stringed sounds of the fiddle\, stand-up bass\, guitar\, and mandolin. Traditional Irish Music and Irish Rock with a twist! Broken Spoke never fail to deliver an outstanding performance that will have you up on your feet before you know it! \n 
URL:https://waterstreetinn.loganmarketing.com/event/the-broken-spoke-live-at-charlies-restaurant-and-irish-pub-19/
ATTACH;FMTTYPE=image/jpeg:https://waterstreetinn.loganmarketing.com/wp-content/uploads/2026/01/354204801_751603206971124_2100205559362048548_n-1.jpg
END:VEVENT
BEGIN:VEVENT
DTSTART;TZID=UTC:20260919T190000
DTEND;TZID=UTC:20260919T230000
DTSTAMP:20260425T062757
CREATED:20260110T031914Z
LAST-MODIFIED:20260110T031914Z
UID:10000573-1789844400-1789858800@waterstreetinn.loganmarketing.com
SUMMARY:The Broken Spoke Live at Charlie’s Restaurant and Irish Pub
DESCRIPTION:A high-energy Irish/folk band based in Saint Paul\, MN highlighting the sweet stringed sounds of the fiddle\, stand-up bass\, guitar\, and mandolin. Traditional Irish Music and Irish Rock with a twist! Broken Spoke never fail to deliver an outstanding performance that will have you up on your feet before you know it!
URL:https://waterstreetinn.loganmarketing.com/event/the-broken-spoke-live-at-charlies-restaurant-and-irish-pub-20/
ATTACH;FMTTYPE=image/jpeg:https://waterstreetinn.loganmarketing.com/wp-content/uploads/2026/01/354204801_751603206971124_2100205559362048548_n-1.jpg
END:VEVENT
BEGIN:VEVENT
DTSTART;TZID=UTC:20261001T173000
DTEND;TZID=UTC:20261001T203000
DTSTAMP:20260425T062757
CREATED:20251224T034228Z
LAST-MODIFIED:20260126T151506Z
UID:10000540-1790875800-1790886600@waterstreetinn.loganmarketing.com
SUMMARY:Stillwater Music Friends Acoustic Jam Band
DESCRIPTION:Every other week\, a group of friends gathers at Charlie’s Restaurant & Irish Pub from 5:30 to 8:30 PM for an acoustic jam session. They perform a diverse selection of music\, including Classic Rock\, Country\, R&B\, Jazz\, and Latin\, while also welcoming audience requests and contributions from fellow musicians. The session is entirely unplugged\, with the exception of the bass. The atmosphere is inviting\, and the music creates a lively and enjoyable experience for all.
URL:https://waterstreetinn.loganmarketing.com/event/stillwater-music-friends-acoustic-jam-band-43/
ATTACH;FMTTYPE=image/jpeg:https://waterstreetinn.loganmarketing.com/wp-content/uploads/2026/01/498588231_1299491725515600_1123032904237267724_n-1.jpg
END:VEVENT
BEGIN:VEVENT
DTSTART;TZID=UTC:20261002T190000
DTEND;TZID=UTC:20261002T230000
DTSTAMP:20260425T062757
CREATED:20260110T032036Z
LAST-MODIFIED:20260110T032036Z
UID:10000574-1790967600-1790982000@waterstreetinn.loganmarketing.com
SUMMARY:Bedlam Live at Charlie’s Restaurant and Irish Pub
DESCRIPTION:Bedlam is a band born out of the talent pool of the MN Renaissance Festival. Over the years\, the band has had a diverse sound and many different members. Its recent incarnation is a folk band with a hippie attitude. Many familiar songs with a different slant along with some original material as well. As the name implies a stage with this group on it is not a very stable one and you never know who may show up and sit in on a set!
URL:https://waterstreetinn.loganmarketing.com/event/bedlam-live-at-charlies-restaurant-and-irish-pub-68/
ATTACH;FMTTYPE=image/jpeg:https://waterstreetinn.loganmarketing.com/wp-content/uploads/2026/01/Bedlam-2.jpg
END:VEVENT
BEGIN:VEVENT
DTSTART;TZID=UTC:20261003T190000
DTEND;TZID=UTC:20261003T230000
DTSTAMP:20260425T062757
CREATED:20260110T032114Z
LAST-MODIFIED:20260110T032114Z
UID:10000575-1791054000-1791068400@waterstreetinn.loganmarketing.com
SUMMARY:Bedlam Live at Charlie’s Restaurant and Irish Pub
DESCRIPTION:Bedlam is a band born out of the talent pool of the MN Renaissance Festival. Over the years\, the band has had a diverse sound and many different members. Its recent incarnation is a folk band with a hippie attitude. Many familiar songs with a different slant along with some original material as well. As the name implies a stage with this group on it is not a very stable one and you never know who may show up and sit in on a set!
URL:https://waterstreetinn.loganmarketing.com/event/bedlam-live-at-charlies-restaurant-and-irish-pub-69/
ATTACH;FMTTYPE=image/jpeg:https://waterstreetinn.loganmarketing.com/wp-content/uploads/2026/01/Bedlam-2.jpg
END:VEVENT
BEGIN:VEVENT
DTSTART;TZID=UTC:20261009T190000
DTEND;TZID=UTC:20261009T230000
DTSTAMP:20260425T062757
CREATED:20260110T032209Z
LAST-MODIFIED:20260110T032209Z
UID:10000576-1791572400-1791586800@waterstreetinn.loganmarketing.com
SUMMARY:Twin Prop Jane Live at Live at Charlie’s Restaurant and Irish Pub
DESCRIPTION:Stowaway folk sessions by Tam Jones\, Courtney Buck\, and Dee Brust featuring vocal harmonies\, fiddles\, banjo\, mandolin\, and guitar. Stowaway folk sessions by Tam Jones\, Courtney Buck\, and Dee Brust featuring vocal harmonies\, fiddles\, banjo\, mandolin\, and guitar.
URL:https://waterstreetinn.loganmarketing.com/event/twin-prop-jane-live-at-live-at-charlies-restaurant-and-irish-pub-9/
ATTACH;FMTTYPE=image/jpeg:https://waterstreetinn.loganmarketing.com/wp-content/uploads/2026/01/495047649_122155507664503962_4423974609505888688_n-1.jpg
END:VEVENT
BEGIN:VEVENT
DTSTART;TZID=UTC:20261010T190000
DTEND;TZID=UTC:20261010T230000
DTSTAMP:20260425T062757
CREATED:20260110T032244Z
LAST-MODIFIED:20260110T032244Z
UID:10000577-1791658800-1791673200@waterstreetinn.loganmarketing.com
SUMMARY:Twin Prop Jane Live at Live at Charlie’s Restaurant and Irish Pub
DESCRIPTION:Stowaway folk sessions by Tam Jones\, Courtney Buck\, and Dee Brust featuring vocal harmonies\, fiddles\, banjo\, mandolin\, and guitar. Stowaway folk sessions by Tam Jones\, Courtney Buck\, and Dee Brust featuring vocal harmonies\, fiddles\, banjo\, mandolin\, and guitar.
URL:https://waterstreetinn.loganmarketing.com/event/twin-prop-jane-live-at-live-at-charlies-restaurant-and-irish-pub-10/
ATTACH;FMTTYPE=image/jpeg:https://waterstreetinn.loganmarketing.com/wp-content/uploads/2026/01/495047649_122155507664503962_4423974609505888688_n-1.jpg
END:VEVENT
BEGIN:VEVENT
DTSTART;TZID=UTC:20261015T173000
DTEND;TZID=UTC:20261015T203000
DTSTAMP:20260425T062757
CREATED:20251224T034309Z
LAST-MODIFIED:20260126T151506Z
UID:10000541-1792085400-1792096200@waterstreetinn.loganmarketing.com
SUMMARY:Stillwater Music Friends Acoustic Jam Band
DESCRIPTION:Every other week\, a group of friends gathers at Charlie’s Restaurant & Irish Pub from 5:30 to 8:30 PM for an acoustic jam session. They perform a diverse selection of music\, including Classic Rock\, Country\, R&B\, Jazz\, and Latin\, while also welcoming audience requests and contributions from fellow musicians. The session is entirely unplugged\, with the exception of the bass. The atmosphere is inviting\, and the music creates a lively and enjoyable experience for all.
URL:https://waterstreetinn.loganmarketing.com/event/stillwater-music-friends-acoustic-jam-band-44/
ATTACH;FMTTYPE=image/jpeg:https://waterstreetinn.loganmarketing.com/wp-content/uploads/2026/01/498588231_1299491725515600_1123032904237267724_n-1.jpg
END:VEVENT
BEGIN:VEVENT
DTSTART;TZID=UTC:20261016T190000
DTEND;TZID=UTC:20261016T230000
DTSTAMP:20260425T062757
CREATED:20260110T032325Z
LAST-MODIFIED:20260110T032325Z
UID:10000578-1792177200-1792191600@waterstreetinn.loganmarketing.com
SUMMARY:The Broken Spoke Live at Charlie’s Restaurant and Irish Pub
DESCRIPTION:A high-energy Irish/folk band based in Saint Paul\, MN highlighting the sweet stringed sounds of the fiddle\, stand-up bass\, guitar\, and mandolin. Traditional Irish Music and Irish Rock with a twist! Broken Spoke never fail to deliver an outstanding performance that will have you up on your feet before you know it!
URL:https://waterstreetinn.loganmarketing.com/event/the-broken-spoke-live-at-charlies-restaurant-and-irish-pub-21/
ATTACH;FMTTYPE=image/jpeg:https://waterstreetinn.loganmarketing.com/wp-content/uploads/2026/01/354204801_751603206971124_2100205559362048548_n-1.jpg
END:VEVENT
BEGIN:VEVENT
DTSTART;TZID=UTC:20261017T190000
DTEND;TZID=UTC:20261017T230000
DTSTAMP:20260425T062757
CREATED:20260110T032400Z
LAST-MODIFIED:20260110T032400Z
UID:10000579-1792263600-1792278000@waterstreetinn.loganmarketing.com
SUMMARY:The Broken Spoke Live at Charlie’s Restaurant and Irish Pub
DESCRIPTION:A high-energy Irish/folk band based in Saint Paul\, MN highlighting the sweet stringed sounds of the fiddle\, stand-up bass\, guitar\, and mandolin. Traditional Irish Music and Irish Rock with a twist! Broken Spoke never fail to deliver an outstanding performance that will have you up on your feet before you know it!
URL:https://waterstreetinn.loganmarketing.com/event/the-broken-spoke-live-at-charlies-restaurant-and-irish-pub-22/
ATTACH;FMTTYPE=image/jpeg:https://waterstreetinn.loganmarketing.com/wp-content/uploads/2026/01/354204801_751603206971124_2100205559362048548_n-1.jpg
END:VEVENT
END:VCALENDAR