BEGIN:VCALENDAR
VERSION:2.0
PRODID:-//Water Street Inn - ECPv6.15.20//NONSGML v1.0//EN
CALSCALE:GREGORIAN
METHOD:PUBLISH
X-WR-CALNAME:Water Street Inn
X-ORIGINAL-URL:https://waterstreetinn.loganmarketing.com
X-WR-CALDESC:Events for Water Street Inn
REFRESH-INTERVAL;VALUE=DURATION:PT1H
X-Robots-Tag:noindex
X-PUBLISHED-TTL:PT1H
BEGIN:VTIMEZONE
TZID:UTC
BEGIN:STANDARD
TZOFFSETFROM:+0000
TZOFFSETTO:+0000
TZNAME:UTC
DTSTART:20250101T000000
END:STANDARD
END:VTIMEZONE
BEGIN:VEVENT
DTSTART;TZID=UTC:20260416T173000
DTEND;TZID=UTC:20260416T203000
DTSTAMP:20260425T043036
CREATED:20251224T032709Z
LAST-MODIFIED:20260126T151456Z
UID:10000528-1776360600-1776371400@waterstreetinn.loganmarketing.com
SUMMARY:Stillwater Music Friends Acoustic Jam Band
DESCRIPTION:Every other week\, a group of friends gathers at Charlie’s Restaurant & Irish Pub from 5:30 to 8:30 PM for an acoustic jam session. They perform a diverse selection of music\, including Classic Rock\, Country\, R&B\, Jazz\, and Latin\, while also welcoming audience requests and contributions from fellow musicians. The session is entirely unplugged\, with the exception of the bass. The atmosphere is inviting\, and the music creates a lively and enjoyable experience for all.
URL:https://waterstreetinn.loganmarketing.com/event/stillwater-music-friends-acoustic-jam-band-31/
ATTACH;FMTTYPE=image/jpeg:https://waterstreetinn.loganmarketing.com/wp-content/uploads/2026/01/498588231_1299491725515600_1123032904237267724_n-1.jpg
END:VEVENT
BEGIN:VEVENT
DTSTART;TZID=UTC:20260411T190000
DTEND;TZID=UTC:20260411T230000
DTSTAMP:20260425T043036
CREATED:20251224T005116Z
LAST-MODIFIED:20251224T005116Z
UID:10000501-1775934000-1775948400@waterstreetinn.loganmarketing.com
SUMMARY:Twin Prop Jane Live at Live at Charlie’s Restaurant and Irish Pub
DESCRIPTION:Stowaway folk sessions by Tam Jones\, Courtney Buck\, and Dee Brust featuring vocal harmonies\, fiddles\, banjo\, mandolin\, and guitar. Stowaway folk sessions by Tam Jones\, Courtney Buck\, and Dee Brust featuring vocal harmonies\, fiddles\, banjo\, mandolin\, and guitar.
URL:https://waterstreetinn.loganmarketing.com/event/twin-prop-jane-live-at-live-at-charlies-restaurant-and-irish-pub-6/
ATTACH;FMTTYPE=image/jpeg:https://waterstreetinn.loganmarketing.com/wp-content/uploads/2026/01/495047649_122155507664503962_4423974609505888688_n.jpg
END:VEVENT
BEGIN:VEVENT
DTSTART;TZID=UTC:20260410T190000
DTEND;TZID=UTC:20260410T230000
DTSTAMP:20260425T043036
CREATED:20251224T005027Z
LAST-MODIFIED:20251224T005027Z
UID:10000500-1775847600-1775862000@waterstreetinn.loganmarketing.com
SUMMARY:Twin Prop Jane Live at Live at Charlie’s Restaurant and Irish Pub
DESCRIPTION:Stowaway folk sessions by Tam Jones\, Courtney Buck\, and Dee Brust featuring vocal harmonies\, fiddles\, banjo\, mandolin\, and guitar. Stowaway folk sessions by Tam Jones\, Courtney Buck\, and Dee Brust featuring vocal harmonies\, fiddles\, banjo\, mandolin\, and guitar.
URL:https://waterstreetinn.loganmarketing.com/event/twin-prop-jane-live-at-live-at-charlies-restaurant-and-irish-pub-5/
ATTACH;FMTTYPE=image/jpeg:https://waterstreetinn.loganmarketing.com/wp-content/uploads/2026/01/495047649_122155507664503962_4423974609505888688_n.jpg
END:VEVENT
BEGIN:VEVENT
DTSTART;TZID=UTC:20260404T190000
DTEND;TZID=UTC:20260404T230000
DTSTAMP:20260425T043037
CREATED:20251224T004916Z
LAST-MODIFIED:20251224T004916Z
UID:10000499-1775329200-1775343600@waterstreetinn.loganmarketing.com
SUMMARY:Bedlam Live at Charlie’s Restaurant and Irish Pub
DESCRIPTION:Bedlam is a band born out of the talent pool of the MN Renaissance Festival. Over the years\, the band has had a diverse sound and many different members. Its recent incarnation is a folk band with a hippie attitude. Many familiar songs with a different slant along with some original material as well. As the name implies a stage with this group on it is not a very stable one and you never know who may show up and sit in on a set!
URL:https://waterstreetinn.loganmarketing.com/event/bedlam-live-at-charlies-restaurant-and-irish-pub-57/
ATTACH;FMTTYPE=image/jpeg:https://waterstreetinn.loganmarketing.com/wp-content/uploads/2026/01/bedlam-1-1-1.jpg
END:VEVENT
BEGIN:VEVENT
DTSTART;TZID=UTC:20260403T190000
DTEND;TZID=UTC:20260403T230000
DTSTAMP:20260425T043037
CREATED:20251224T004826Z
LAST-MODIFIED:20251224T004826Z
UID:10000498-1775242800-1775257200@waterstreetinn.loganmarketing.com
SUMMARY:Bedlam Live at Charlie’s Restaurant and Irish Pub
DESCRIPTION:Bedlam is a band born out of the talent pool of the MN Renaissance Festival. Over the years\, the band has had a diverse sound and many different members. Its recent incarnation is a folk band with a hippie attitude. Many familiar songs with a different slant along with some original material as well. As the name implies a stage with this group on it is not a very stable one and you never know who may show up and sit in on a set!
URL:https://waterstreetinn.loganmarketing.com/event/bedlam-live-at-charlies-restaurant-and-irish-pub-56/
ATTACH;FMTTYPE=image/jpeg:https://waterstreetinn.loganmarketing.com/wp-content/uploads/2026/01/bedlam-1-1-1.jpg
END:VEVENT
BEGIN:VEVENT
DTSTART;TZID=UTC:20260402T173000
DTEND;TZID=UTC:20260402T203000
DTSTAMP:20260425T043037
CREATED:20251224T032611Z
LAST-MODIFIED:20260126T151455Z
UID:10000527-1775151000-1775161800@waterstreetinn.loganmarketing.com
SUMMARY:Stillwater Music Friends Acoustic Jam Band
DESCRIPTION:Every other week\, a group of friends gathers at Charlie’s Restaurant & Irish Pub from 5:30 to 8:30 PM for an acoustic jam session. They perform a diverse selection of music\, including Classic Rock\, Country\, R&B\, Jazz\, and Latin\, while also welcoming audience requests and contributions from fellow musicians. The session is entirely unplugged\, with the exception of the bass. The atmosphere is inviting\, and the music creates a lively and enjoyable experience for all.
URL:https://waterstreetinn.loganmarketing.com/event/stillwater-music-friends-acoustic-jam-band-30/
ATTACH;FMTTYPE=image/jpeg:https://waterstreetinn.loganmarketing.com/wp-content/uploads/2026/01/498588231_1299491725515600_1123032904237267724_n-1.jpg
END:VEVENT
BEGIN:VEVENT
DTSTART;TZID=UTC:20260328T190000
DTEND;TZID=UTC:20260328T230000
DTSTAMP:20260425T043037
CREATED:20251224T004711Z
LAST-MODIFIED:20251224T004711Z
UID:10000497-1774724400-1774738800@waterstreetinn.loganmarketing.com
SUMMARY:Fiddle & Flannels Live Charlie’s Restaurant and Irish Pub
DESCRIPTION:Fiddle and Flannels is a talented ensemble of musicians who specialize in delivering a captivating blend of classic country and lively Irish jigs. With their infectious energy and mastery of their instruments\, they’ll transport you to a world of heartwarming melodies and foot-stomping rhythms. Fiddle and Flannels is your go-to choice for an unforgettable musical experience.
URL:https://waterstreetinn.loganmarketing.com/event/fiddle-flannels-live-charlies-restaurant-and-irish-pub-6/
ATTACH;FMTTYPE=image/jpeg:https://waterstreetinn.loganmarketing.com/wp-content/uploads/2026/01/426457756_264756873312753_2270774576212792925_n.jpg
END:VEVENT
BEGIN:VEVENT
DTSTART;TZID=UTC:20260327T190000
DTEND;TZID=UTC:20260327T230000
DTSTAMP:20260425T043037
CREATED:20251224T004627Z
LAST-MODIFIED:20251224T004627Z
UID:10000496-1774638000-1774652400@waterstreetinn.loganmarketing.com
SUMMARY:Fiddle & Flannels Live Charlie’s Restaurant and Irish Pub
DESCRIPTION:Fiddle and Flannels is a talented ensemble of musicians who specialize in delivering a captivating blend of classic country and lively Irish jigs. With their infectious energy and mastery of their instruments\, they’ll transport you to a world of heartwarming melodies and foot-stomping rhythms. Fiddle and Flannels is your go-to choice for an unforgettable musical experience.
URL:https://waterstreetinn.loganmarketing.com/event/fiddle-flannels-live-charlies-restaurant-and-irish-pub-5/
ATTACH;FMTTYPE=image/jpeg:https://waterstreetinn.loganmarketing.com/wp-content/uploads/2026/01/426457756_264756873312753_2270774576212792925_n.jpg
END:VEVENT
BEGIN:VEVENT
DTSTART;TZID=UTC:20260321T190000
DTEND;TZID=UTC:20260321T230000
DTSTAMP:20260425T043037
CREATED:20251224T004424Z
LAST-MODIFIED:20251224T004424Z
UID:10000495-1774119600-1774134000@waterstreetinn.loganmarketing.com
SUMMARY:JAWSY Live Charlie’s Restaurant and Irish Pub
DESCRIPTION:JAWSY brings variety and storytelling to the stage through magical arrangements of all the best songs you almost forgot about\, with a flair for Irish and Bluegrass influence.  4 piece acoustic.  Come join us for 2 nights of wholesome music and cheer\, and of course\, Irish Whiskey and beer.
URL:https://waterstreetinn.loganmarketing.com/event/jawsy-live-charlies-restaurant-and-irish-pub-4/
ATTACH;FMTTYPE=image/jpeg:https://waterstreetinn.loganmarketing.com/wp-content/uploads/2026/01/1000000564.jpg
END:VEVENT
BEGIN:VEVENT
DTSTART;TZID=UTC:20260320T190000
DTEND;TZID=UTC:20260320T230000
DTSTAMP:20260425T043037
CREATED:20251224T004320Z
LAST-MODIFIED:20251224T004320Z
UID:10000494-1774033200-1774047600@waterstreetinn.loganmarketing.com
SUMMARY:JAWSY Live Charlie’s Restaurant and Irish Pub
DESCRIPTION:JAWSY brings variety and storytelling to the stage through magical arrangements of all the best songs you almost forgot about\, with a flair for Irish and Bluegrass influence.  4 piece acoustic.  Come join us for 2 nights of wholesome music and cheer\, and of course\, Irish Whiskey and beer.
URL:https://waterstreetinn.loganmarketing.com/event/jawsy-live-charlies-restaurant-and-irish-pub-3/
ATTACH;FMTTYPE=image/jpeg:https://waterstreetinn.loganmarketing.com/wp-content/uploads/2026/01/1000000564.jpg
END:VEVENT
BEGIN:VEVENT
DTSTART;TZID=UTC:20260319T173000
DTEND;TZID=UTC:20260319T203000
DTSTAMP:20260425T043037
CREATED:20251224T032250Z
LAST-MODIFIED:20260126T151455Z
UID:10000526-1773941400-1773952200@waterstreetinn.loganmarketing.com
SUMMARY:Stillwater Music Friends Acoustic Jam Band
DESCRIPTION:Every other week\, a group of friends gathers at Charlie’s Restaurant & Irish Pub from 5:30 to 8:30 PM for an acoustic jam session. They perform a diverse selection of music\, including Classic Rock\, Country\, R&B\, Jazz\, and Latin\, while also welcoming audience requests and contributions from fellow musicians. The session is entirely unplugged\, with the exception of the bass. The atmosphere is inviting\, and the music creates a lively and enjoyable experience for all.
URL:https://waterstreetinn.loganmarketing.com/event/stillwater-music-friends-acoustic-jam-band-29/
ATTACH;FMTTYPE=image/jpeg:https://waterstreetinn.loganmarketing.com/wp-content/uploads/2026/01/498588231_1299491725515600_1123032904237267724_n-1.jpg
END:VEVENT
BEGIN:VEVENT
DTSTART;TZID=UTC:20260314T150000
DTEND;TZID=UTC:20260314T230000
DTSTAMP:20260425T043037
CREATED:20251224T003738Z
LAST-MODIFIED:20251224T003738Z
UID:10000493-1773500400-1773529200@waterstreetinn.loganmarketing.com
SUMMARY:Saint Patrick’s Day Weekend Live Music Lineup
DESCRIPTION:Stay tuned for the official music lineup for St. Patrick’s Day 2026!
URL:https://waterstreetinn.loganmarketing.com/event/saint-patricks-day-weekend-live-music-lineup-2/
END:VEVENT
BEGIN:VEVENT
DTSTART;TZID=UTC:20260313T190000
DTEND;TZID=UTC:20260313T230000
DTSTAMP:20260425T043037
CREATED:20251224T003511Z
LAST-MODIFIED:20251224T003511Z
UID:10000492-1773428400-1773442800@waterstreetinn.loganmarketing.com
SUMMARY:The Hounds of Finn Live at Charlie's Restaurant and Irish Pub
DESCRIPTION:The Hounds of Finn is a high-energy folk-rock group forged from the roots of Celtic and American traditions. This year\, the original duo is back! Leslie Rich and Pete McCauley return to the stage just like they did when they first began the group in 2007 – two guys singing and playing their hearts out
URL:https://waterstreetinn.loganmarketing.com/event/the-hounds-of-finn-live-at-charlies-restaurant-and-irish-pub/
ATTACH;FMTTYPE=image/jpeg:https://waterstreetinn.loganmarketing.com/wp-content/uploads/2026/01/485040619_1036882978475866_1700382605863343950_n.jpg
END:VEVENT
BEGIN:VEVENT
DTSTART;TZID=UTC:20260307T190000
DTEND;TZID=UTC:20260307T230000
DTSTAMP:20260425T043037
CREATED:20251224T003226Z
LAST-MODIFIED:20251224T003226Z
UID:10000491-1772910000-1772924400@waterstreetinn.loganmarketing.com
SUMMARY:Bedlam Live at Charlie’s Restaurant and Irish Pub
DESCRIPTION:Bedlam is a band born out of the talent pool of the MN Renaissance Festival. Over the years\, the band has had a diverse sound and many different members. Its recent incarnation is a folk band with a hippie attitude. Many familiar songs with a different slant along with some original material as well. As the name implies a stage with this group on it is not a very stable one and you never know who may show up and sit in on a set!
URL:https://waterstreetinn.loganmarketing.com/event/bedlam-live-at-charlies-restaurant-and-irish-pub-55/
ATTACH;FMTTYPE=image/jpeg:https://waterstreetinn.loganmarketing.com/wp-content/uploads/2026/01/bedlam-1-1-1.jpg
END:VEVENT
BEGIN:VEVENT
DTSTART;TZID=UTC:20260306T190000
DTEND;TZID=UTC:20260306T230000
DTSTAMP:20260425T043037
CREATED:20251224T003119Z
LAST-MODIFIED:20251224T003119Z
UID:10000490-1772823600-1772838000@waterstreetinn.loganmarketing.com
SUMMARY:Bedlam Live at Charlie’s Restaurant and Irish Pub
DESCRIPTION:Bedlam is a band born out of the talent pool of the MN Renaissance Festival. Over the years\, the band has had a diverse sound and many different members. Its recent incarnation is a folk band with a hippie attitude. Many familiar songs with a different slant along with some original material as well. As the name implies a stage with this group on it is not a very stable one and you never know who may show up and sit in on a set!
URL:https://waterstreetinn.loganmarketing.com/event/bedlam-live-at-charlies-restaurant-and-irish-pub-54/
ATTACH;FMTTYPE=image/jpeg:https://waterstreetinn.loganmarketing.com/wp-content/uploads/2026/01/bedlam-1-1-1.jpg
END:VEVENT
BEGIN:VEVENT
DTSTART;TZID=UTC:20260303T173000
DTEND;TZID=UTC:20260303T203000
DTSTAMP:20260425T043037
CREATED:20251224T032109Z
LAST-MODIFIED:20260126T151454Z
UID:10000525-1772559000-1772569800@waterstreetinn.loganmarketing.com
SUMMARY:Stillwater Music Friends Acoustic Jam Band
DESCRIPTION:Every other week\, a group of friends gathers at Charlie’s Restaurant & Irish Pub from 5:30 to 8:30 PM for an acoustic jam session. They perform a diverse selection of music\, including Classic Rock\, Country\, R&B\, Jazz\, and Latin\, while also welcoming audience requests and contributions from fellow musicians. The session is entirely unplugged\, with the exception of the bass. The atmosphere is inviting\, and the music creates a lively and enjoyable experience for all.
URL:https://waterstreetinn.loganmarketing.com/event/stillwater-music-friends-acoustic-jam-band-28/
ATTACH;FMTTYPE=image/jpeg:https://waterstreetinn.loganmarketing.com/wp-content/uploads/2026/01/498588231_1299491725515600_1123032904237267724_n-1.jpg
END:VEVENT
BEGIN:VEVENT
DTSTART;TZID=UTC:20260228T190000
DTEND;TZID=UTC:20260228T230000
DTSTAMP:20260425T043037
CREATED:20251224T002859Z
LAST-MODIFIED:20251224T002859Z
UID:10000489-1772305200-1772319600@waterstreetinn.loganmarketing.com
SUMMARY:Bonnie Drunken Lad Live at Charlie’s Restaurant and Irish Pub
DESCRIPTION:Bonnie Drunken Lad. A group of 4 lads and 1 lass (all with questionable Celtic heritage) with an interest in traditional and modern Irish drinking songs\, war anthems\, historical oddities\, sea shanties\, and anything Luke Kelly sings.  They practice in a shack in Apple Valley\, MN. Five miscreants\, one Bonnie Drunken Lad.
URL:https://waterstreetinn.loganmarketing.com/event/bonnie-drunken-lad-live-at-charlies-restaurant-and-irish-pub-9/
ATTACH;FMTTYPE=image/jpeg:https://waterstreetinn.loganmarketing.com/wp-content/uploads/2026/01/Bonnie-Drunken-Lad.jpg
END:VEVENT
BEGIN:VEVENT
DTSTART;TZID=UTC:20260227T190000
DTEND;TZID=UTC:20260227T230000
DTSTAMP:20260425T043037
CREATED:20251224T002809Z
LAST-MODIFIED:20251224T002809Z
UID:10000488-1772218800-1772233200@waterstreetinn.loganmarketing.com
SUMMARY:Bonnie Drunken Lad Live at Charlie’s Restaurant and Irish Pub
DESCRIPTION:Bonnie Drunken Lad. A group of 4 lads and 1 lass (all with questionable Celtic heritage) with an interest in traditional and modern Irish drinking songs\, war anthems\, historical oddities\, sea shanties\, and anything Luke Kelly sings.  They practice in a shack in Apple Valley\, MN. Five miscreants\, one Bonnie Drunken Lad.
URL:https://waterstreetinn.loganmarketing.com/event/bonnie-drunken-lad-live-at-charlies-restaurant-and-irish-pub-8/
ATTACH;FMTTYPE=image/jpeg:https://waterstreetinn.loganmarketing.com/wp-content/uploads/2026/01/Bonnie-Drunken-Lad.jpg
END:VEVENT
BEGIN:VEVENT
DTSTART;TZID=UTC:20260221T190000
DTEND;TZID=UTC:20260221T230000
DTSTAMP:20260425T043037
CREATED:20251224T002651Z
LAST-MODIFIED:20251224T002651Z
UID:10000487-1771700400-1771714800@waterstreetinn.loganmarketing.com
SUMMARY:Leslie Rich and the Rocket Soul Choir Live at Charlie's Restaurant and Irish Pub
DESCRIPTION:Northern Irish singer songwriter Leslie Rich creates authentic\, & cathartic rock and roll\, backed by the wonderfully monikered\, Rocket Soul Choir. The tightly rhythmic three piece are the perfect backing for songs that tug at the heart and crave for hope
URL:https://waterstreetinn.loganmarketing.com/event/leslie-rich-and-the-rocket-soul-choir-live-at-charlies-restaurant-and-irish-pub-2/
ATTACH;FMTTYPE=image/jpeg:https://waterstreetinn.loganmarketing.com/wp-content/uploads/2026/01/Rocket-Soul-Choir-1.jpg
END:VEVENT
BEGIN:VEVENT
DTSTART;TZID=UTC:20260220T190000
DTEND;TZID=UTC:20260220T230000
DTSTAMP:20260425T043037
CREATED:20251224T002558Z
LAST-MODIFIED:20251224T002558Z
UID:10000486-1771614000-1771628400@waterstreetinn.loganmarketing.com
SUMMARY:Leslie Rich and the Rocket Soul Choir Live at Charlie's Restaurant and Irish Pub
DESCRIPTION:Northern Irish singer songwriter Leslie Rich creates authentic\, & cathartic rock and roll\, backed by the wonderfully monikered\, Rocket Soul Choir. The tightly rhythmic three piece are the perfect backing for songs that tug at the heart and crave for hope
URL:https://waterstreetinn.loganmarketing.com/event/leslie-rich-and-the-rocket-soul-choir-live-at-charlies-restaurant-and-irish-pub/
ATTACH;FMTTYPE=image/jpeg:https://waterstreetinn.loganmarketing.com/wp-content/uploads/2026/01/Rocket-Soul-Choir-1.jpg
END:VEVENT
BEGIN:VEVENT
DTSTART;TZID=UTC:20260220T190000
DTEND;TZID=UTC:20260220T200000
DTSTAMP:20260425T043037
CREATED:20260107T023339Z
LAST-MODIFIED:20260126T151518Z
UID:10000551-1771614000-1771617600@waterstreetinn.loganmarketing.com
SUMMARY:Stillwater Winterfest: Fireworks Viewing from Papa's Rooftop
DESCRIPTION:Watch the Winterfest Fireworks from Papa’s Rooftop OR River Siren Brewing Company\, starting at 7:00pm on Friday\, February 20th\, 2026!\nYou can view from either location – enjoy a fire pit\, hot chocolate and beverages from the bar!\nLearn more about Stillwater Winterfest: stillwaterU.com\n 
URL:https://waterstreetinn.loganmarketing.com/event/stillwater-winterfest-fireworks-viewing-from-papas-rooftop/
ATTACH;FMTTYPE=image/jpeg:https://waterstreetinn.loganmarketing.com/wp-content/uploads/2026/01/593780316_1323458749822463_1294344539759549391_n.jpg
END:VEVENT
BEGIN:VEVENT
DTSTART;TZID=UTC:20260217T170000
DTEND;TZID=UTC:20260217T203000
DTSTAMP:20260425T043037
CREATED:20251224T040312Z
LAST-MODIFIED:20260126T151510Z
UID:10000547-1771347600-1771360200@waterstreetinn.loganmarketing.com
SUMMARY:Stillwater Music Friends Acoustic Jam Band
DESCRIPTION:Every other week\, a group of friends gathers at Charlie’s Restaurant & Irish Pub from 5:30 to 8:30 PM for an acoustic jam session. They perform a diverse selection of music\, including Classic Rock\, Country\, R&B\, Jazz\, and Latin\, while also welcoming audience requests and contributions from fellow musicians. The session is entirely unplugged\, with the exception of the bass. The atmosphere is inviting\, and the music creates a lively and enjoyable experience for all.
URL:https://waterstreetinn.loganmarketing.com/event/stillwater-music-friends-acoustic-jam-band-49/
ATTACH;FMTTYPE=image/jpeg:https://waterstreetinn.loganmarketing.com/wp-content/uploads/2026/01/498588231_1299491725515600_1123032904237267724_n-1.jpg
END:VEVENT
BEGIN:VEVENT
DTSTART;TZID=UTC:20260214T190000
DTEND;TZID=UTC:20260214T230000
DTSTAMP:20260425T043037
CREATED:20251224T005542Z
LAST-MODIFIED:20251224T005542Z
UID:10000505-1771095600-1771110000@waterstreetinn.loganmarketing.com
SUMMARY:The Broken Spoke Live at Charlie’s Restaurant and Irish Pub
DESCRIPTION:A high-energy Irish/folk band based in Saint Paul\, MN highlighting the sweet stringed sounds of the fiddle\, stand-up bass\, guitar\, and mandolin. Traditional Irish Music and Irish Rock with a twist! Broken Spoke never fail to deliver an outstanding performance that will have you up on your feet before you know it!
URL:https://waterstreetinn.loganmarketing.com/event/the-broken-spoke-live-at-charlies-restaurant-and-irish-pub-8/
ATTACH;FMTTYPE=image/jpeg:https://waterstreetinn.loganmarketing.com/wp-content/uploads/2026/01/354204801_751603206971124_2100205559362048548_n.jpg
END:VEVENT
BEGIN:VEVENT
DTSTART;TZID=UTC:20260213T190000
DTEND;TZID=UTC:20260213T230000
DTSTAMP:20260425T043037
CREATED:20251224T005458Z
LAST-MODIFIED:20251224T005458Z
UID:10000504-1771009200-1771023600@waterstreetinn.loganmarketing.com
SUMMARY:The Broken Spoke Live at Charlie’s Restaurant and Irish Pub
DESCRIPTION:A high-energy Irish/folk band based in Saint Paul\, MN highlighting the sweet stringed sounds of the fiddle\, stand-up bass\, guitar\, and mandolin. Traditional Irish Music and Irish Rock with a twist! Broken Spoke never fail to deliver an outstanding performance that will have you up on your feet before you know it!
URL:https://waterstreetinn.loganmarketing.com/event/the-broken-spoke-live-at-charlies-restaurant-and-irish-pub-7/
ATTACH;FMTTYPE=image/jpeg:https://waterstreetinn.loganmarketing.com/wp-content/uploads/2026/01/354204801_751603206971124_2100205559362048548_n.jpg
END:VEVENT
BEGIN:VEVENT
DTSTART;TZID=UTC:20260207T190000
DTEND;TZID=UTC:20260207T230000
DTSTAMP:20260425T043037
CREATED:20251224T002301Z
LAST-MODIFIED:20251224T002301Z
UID:10000485-1770490800-1770505200@waterstreetinn.loganmarketing.com
SUMMARY:Bedlam Live at Charlie’s Restaurant and Irish Pub
DESCRIPTION:Bedlam is a band born out of the talent pool of the MN Renaissance Festival. Over the years\, the band has had a diverse sound and many different members. Its recent incarnation is a folk band with a hippie attitude. Many familiar songs with a different slant along with some original material as well. As the name implies a stage with this group on it is not a very stable one and you never know who may show up and sit in on a set!
URL:https://waterstreetinn.loganmarketing.com/event/bedlam-live-at-charlies-restaurant-and-irish-pub-53/
ATTACH;FMTTYPE=image/jpeg:https://waterstreetinn.loganmarketing.com/wp-content/uploads/2026/01/bedlam-1-1-1.jpg
END:VEVENT
BEGIN:VEVENT
DTSTART;TZID=UTC:20260206T190000
DTEND;TZID=UTC:20260206T230000
DTSTAMP:20260425T043037
CREATED:20251224T002225Z
LAST-MODIFIED:20251224T002225Z
UID:10000484-1770404400-1770418800@waterstreetinn.loganmarketing.com
SUMMARY:Bedlam Live at Charlie’s Restaurant and Irish Pub
DESCRIPTION:Bedlam is a band born out of the talent pool of the MN Renaissance Festival. Over the years\, the band has had a diverse sound and many different members. Its recent incarnation is a folk band with a hippie attitude. Many familiar songs with a different slant along with some original material as well. As the name implies a stage with this group on it is not a very stable one and you never know who may show up and sit in on a set!
URL:https://waterstreetinn.loganmarketing.com/event/bedlam-live-at-charlies-restaurant-and-irish-pub-52/
ATTACH;FMTTYPE=image/jpeg:https://waterstreetinn.loganmarketing.com/wp-content/uploads/2026/01/bedlam-1-1-1.jpg
END:VEVENT
BEGIN:VEVENT
DTSTART;TZID=UTC:20260203T173000
DTEND;TZID=UTC:20260203T203000
DTSTAMP:20260425T043037
CREATED:20251224T031609Z
LAST-MODIFIED:20260126T151452Z
UID:10000524-1770139800-1770150600@waterstreetinn.loganmarketing.com
SUMMARY:Stillwater Music Friends Acoustic Jam Band
DESCRIPTION:Every other week\, a group of friends gathers at Charlie’s Restaurant & Irish Pub from 5:30 to 8:30 PM for an acoustic jam session. They perform a diverse selection of music\, including Classic Rock\, Country\, R&B\, Jazz\, and Latin\, while also welcoming audience requests and contributions from fellow musicians. The session is entirely unplugged\, with the exception of the bass. The atmosphere is inviting\, and the music creates a lively and enjoyable experience for all.
URL:https://waterstreetinn.loganmarketing.com/event/stillwater-music-friends-acoustic-jam-band-26/
ATTACH;FMTTYPE=image/jpeg:https://waterstreetinn.loganmarketing.com/wp-content/uploads/2026/01/498588231_1299491725515600_1123032904237267724_n.jpg
END:VEVENT
BEGIN:VEVENT
DTSTART;TZID=UTC:20260131T190000
DTEND;TZID=UTC:20260131T230000
DTSTAMP:20260425T043037
CREATED:20251224T001643Z
LAST-MODIFIED:20251224T001643Z
UID:10000483-1769886000-1769900400@waterstreetinn.loganmarketing.com
SUMMARY:Tom Dahill Live Charlie’s Restaurant and Irish Pub
DESCRIPTION:Tom Dahill and Ginny Johnson are superb entertainers with a fantastic repertoire of old Irish songs and dance tunes that you won’t hear from anyone else. They have command of many instruments between them; Irish button accordion\, concertina\, uilleann pipes\, fiddle\, whistle\, bodhrán\, guitar and they sort of juggle these instruments between them to suit the sounds to fit the venue as they go along through their performances. This is the music that is part of the soul of Ireland.
URL:https://waterstreetinn.loganmarketing.com/event/tom-dahill-live-charlies-restaurant-and-irish-pub-2/
ATTACH;FMTTYPE=image/jpeg:https://waterstreetinn.loganmarketing.com/wp-content/uploads/2026/01/Tom-Dahill-1.jpg
END:VEVENT
BEGIN:VEVENT
DTSTART;TZID=UTC:20260130T190000
DTEND;TZID=UTC:20260130T230000
DTSTAMP:20260425T043037
CREATED:20251224T001558Z
LAST-MODIFIED:20251224T001558Z
UID:10000482-1769799600-1769814000@waterstreetinn.loganmarketing.com
SUMMARY:Tom Dahill Live Charlie’s Restaurant and Irish Pub
DESCRIPTION:Tom Dahill and Ginny Johnson are superb entertainers with a fantastic repertoire of old Irish songs and dance tunes that you won’t hear from anyone else. They have command of many instruments between them; Irish button accordion\, concertina\, uilleann pipes\, fiddle\, whistle\, bodhrán\, guitar and they sort of juggle these instruments between them to suit the sounds to fit the venue as they go along through their performances. This is the music that is part of the soul of Ireland.
URL:https://waterstreetinn.loganmarketing.com/event/tom-dahill-live-charlies-restaurant-and-irish-pub/
ATTACH;FMTTYPE=image/jpeg:https://waterstreetinn.loganmarketing.com/wp-content/uploads/2026/01/Tom-Dahill-1.jpg
END:VEVENT
BEGIN:VEVENT
DTSTART;TZID=UTC:20260128T170000
DTEND;TZID=UTC:20260128T210000
DTSTAMP:20260425T043037
CREATED:20251223T042036Z
LAST-MODIFIED:20251223T042036Z
UID:10000475-1769619600-1769634000@waterstreetinn.loganmarketing.com
SUMMARY:Wednesday Wine Dinner at Charlie’s Restaurant and Irish Pub
DESCRIPTION:Every Wednesday\, the chefs at Charlie’s Restaurant prepare a delicious four-course dinner\, accompanied by wine pairings specially selected by our talented bar team\, for just $59.95/person. \nReservations are required: RESERVE YOUR TABLE TODAY \nNote: When booking\, please mention “WINE DINNER” in the request section to confirm your reservation.
URL:https://waterstreetinn.loganmarketing.com/event/wine-wednesday-dinner-at-charlies-restaurant-and-irish-pub-101/
ATTACH;FMTTYPE=image/jpeg:https://waterstreetinn.loganmarketing.com/wp-content/uploads/2026/01/Jan-28th.jpg
END:VEVENT
END:VCALENDAR