BEGIN:VCALENDAR
VERSION:2.0
PRODID:-//Water Street Inn - ECPv6.15.20//NONSGML v1.0//EN
CALSCALE:GREGORIAN
METHOD:PUBLISH
X-ORIGINAL-URL:https://waterstreetinn.loganmarketing.com
X-WR-CALDESC:Events for Water Street Inn
REFRESH-INTERVAL;VALUE=DURATION:PT1H
X-Robots-Tag:noindex
X-PUBLISHED-TTL:PT1H
BEGIN:VTIMEZONE
TZID:UTC
BEGIN:STANDARD
TZOFFSETFROM:+0000
TZOFFSETTO:+0000
TZNAME:UTC
DTSTART:20240101T000000
END:STANDARD
END:VTIMEZONE
BEGIN:VEVENT
DTSTART;TZID=UTC:20251008T180000
DTEND;TZID=UTC:20251008T210000
DTSTAMP:20260425T062811
CREATED:20250923T230144Z
LAST-MODIFIED:20250923T230144Z
UID:10000450-1759946400-1759957200@waterstreetinn.loganmarketing.com
SUMMARY:Sip & Savor: Expert-Led Wine Dinner Experience Featuring GALLO
DESCRIPTION:SIP & SAVOR: EXPERT-LED WINE DINNER EXPERIENCE\nWednesday\, October 8\, 2025 | 6PM \nJoin us for an unforgettable evening atop Papa’s Rooftop for our Sip & Savor: Expert-Led Wine Dinner Experience Featuring Gallo\, formerly E.J. Gallo Winery.E.J. Gallo Winery.\n✨ Four-Course Dinner – each course perfectly paired with a hand-selected wine\n  Breathtaking Rooftop Views – soak in the final days of summer in style\n  Only $79.95 – an incredible night of wine\, food\, and views \nCall 651-439-6000 to reserve your spot today! Because you deserve to sip\, savor\, and enjoy every last warm sunset.
URL:https://waterstreetinn.loganmarketing.com/event/sip-savor-expert-led-wine-dinner-experience-featuring-gallo/
ATTACH;FMTTYPE=image/jpeg:https://waterstreetinn.loganmarketing.com/wp-content/uploads/2026/01/WSI-Event-Covers-12.jpg
END:VEVENT
BEGIN:VEVENT
DTSTART;TZID=UTC:20251010T190000
DTEND;TZID=UTC:20251010T230000
DTSTAMP:20260425T062811
CREATED:20250722T001655Z
LAST-MODIFIED:20250722T001655Z
UID:10000425-1760122800-1760137200@waterstreetinn.loganmarketing.com
SUMMARY:Fiddle & Flannels Live Charlie’s Restaurant and Irish Pub
DESCRIPTION:Fiddle and Flannels is a talented ensemble of musicians who specialize in delivering a captivating blend of classic country and lively Irish jigs. With their infectious energy and mastery of their instruments\, they’ll transport you to a world of heartwarming melodies and foot-stomping rhythms. Fiddle and Flannels is your go-to choice for an unforgettable musical experience.
URL:https://waterstreetinn.loganmarketing.com/event/fiddle-flannels-live-charlies-restaurant-and-irish-pub-3/
ATTACH;FMTTYPE=image/jpeg:https://waterstreetinn.loganmarketing.com/wp-content/uploads/2026/01/426457756_264756873312753_2270774576212792925_n.jpg
END:VEVENT
BEGIN:VEVENT
DTSTART;TZID=UTC:20251011T190000
DTEND;TZID=UTC:20251011T230000
DTSTAMP:20260425T062811
CREATED:20250722T001808Z
LAST-MODIFIED:20250722T001808Z
UID:10000426-1760209200-1760223600@waterstreetinn.loganmarketing.com
SUMMARY:Fiddle & Flannels Live Charlie’s Restaurant and Irish Pub
DESCRIPTION:Fiddle and Flannels is a talented ensemble of musicians who specialize in delivering a captivating blend of classic country and lively Irish jigs. With their infectious energy and mastery of their instruments\, they’ll transport you to a world of heartwarming melodies and foot-stomping rhythms. Fiddle and Flannels is your go-to choice for an unforgettable musical experience.
URL:https://waterstreetinn.loganmarketing.com/event/fiddle-flannels-live-charlies-restaurant-and-irish-pub-4/
ATTACH;FMTTYPE=image/jpeg:https://waterstreetinn.loganmarketing.com/wp-content/uploads/2026/01/426457756_264756873312753_2270774576212792925_n.jpg
END:VEVENT
BEGIN:VEVENT
DTSTART;TZID=UTC:20251016T173000
DTEND;TZID=UTC:20251016T203000
DTSTAMP:20260425T062811
CREATED:20250305T035201Z
LAST-MODIFIED:20260126T151158Z
UID:10000339-1760635800-1760646600@waterstreetinn.loganmarketing.com
SUMMARY:Stillwater Music Friends Acoustic Jam Band
DESCRIPTION:Every other week\, a group of friends gathers at Charlie’s Restaurant & Irish Pub from 5:30 to 8:30 PM for an acoustic jam session. They perform a diverse selection of music\, including Classic Rock\, Country\, R&B\, Jazz\, and Latin\, while also welcoming audience requests and contributions from fellow musicians. The session is entirely unplugged\, with the exception of the bass. The atmosphere is inviting\, and the music creates a lively and enjoyable experience for all.
URL:https://waterstreetinn.loganmarketing.com/event/stillwater-music-friends-acoustic-jam-band-17/
ATTACH;FMTTYPE=image/jpeg:https://waterstreetinn.loganmarketing.com/wp-content/uploads/2026/01/465671114_10234977716692340_4957771924046780728_n.jpg
END:VEVENT
BEGIN:VEVENT
DTSTART;TZID=UTC:20251017T190000
DTEND;TZID=UTC:20251017T230000
DTSTAMP:20260425T062811
CREATED:20250722T001914Z
LAST-MODIFIED:20250722T001914Z
UID:10000427-1760727600-1760742000@waterstreetinn.loganmarketing.com
SUMMARY:Prank Williams and the Broken Spoke Live at Charlie’s Restaurant and Irish Pub
DESCRIPTION:A high-energy Irish/folk band based in Saint Paul\, MN highlighting the sweet stringed sounds of the fiddle\, stand-up bass\, guitar\, and mandolin. Traditional Irish Music and Irish Rock with a twist! Broken Spoke never fail to deliver an outstanding performance that will have you up on your feet before you know it!
URL:https://waterstreetinn.loganmarketing.com/event/prank-williams-and-the-broken-spoke-live-at-charlies-restaurant-and-irish-pub-40/
ATTACH;FMTTYPE=image/jpeg:https://waterstreetinn.loganmarketing.com/wp-content/uploads/2026/01/354204801_751603206971124_2100205559362048548_n.jpg
END:VEVENT
BEGIN:VEVENT
DTSTART;TZID=UTC:20251018T190000
DTEND;TZID=UTC:20251018T230000
DTSTAMP:20260425T062811
CREATED:20250722T001959Z
LAST-MODIFIED:20250722T001959Z
UID:10000428-1760814000-1760828400@waterstreetinn.loganmarketing.com
SUMMARY:Prank Williams and the Broken Spoke Live at Charlie’s Restaurant and Irish Pub
DESCRIPTION:A high-energy Irish/folk band based in Saint Paul\, MN highlighting the sweet stringed sounds of the fiddle\, stand-up bass\, guitar\, and mandolin. Traditional Irish Music and Irish Rock with a twist! Broken Spoke never fail to deliver an outstanding performance that will have you up on your feet before you know it!
URL:https://waterstreetinn.loganmarketing.com/event/prank-williams-and-the-broken-spoke-live-at-charlies-restaurant-and-irish-pub-41/
ATTACH;FMTTYPE=image/jpeg:https://waterstreetinn.loganmarketing.com/wp-content/uploads/2026/01/354204801_751603206971124_2100205559362048548_n.jpg
END:VEVENT
BEGIN:VEVENT
DTSTART;TZID=UTC:20251024T190000
DTEND;TZID=UTC:20251024T230000
DTSTAMP:20260425T062811
CREATED:20250722T002146Z
LAST-MODIFIED:20250722T002146Z
UID:10000429-1761332400-1761346800@waterstreetinn.loganmarketing.com
SUMMARY:Tramps & Hawkers Live at Charlies Restaurant & Irish Pub
DESCRIPTION:“More Roads\, more brough”
URL:https://waterstreetinn.loganmarketing.com/event/purgatory-creek-live-at-charlies-restaurant-irish-pub-6/
ATTACH;FMTTYPE=image/jpeg:https://waterstreetinn.loganmarketing.com/wp-content/uploads/2026/01/558972355_122208333944052216_1922465352589935571_n.jpg
END:VEVENT
BEGIN:VEVENT
DTSTART;TZID=UTC:20251025T190000
DTEND;TZID=UTC:20251025T230000
DTSTAMP:20260425T062811
CREATED:20250722T002249Z
LAST-MODIFIED:20250722T002249Z
UID:10000430-1761418800-1761433200@waterstreetinn.loganmarketing.com
SUMMARY:Tramps & Hawkers Live at Charlies Restaurant & Irish Pub
DESCRIPTION:“More Roads\, more brough”
URL:https://waterstreetinn.loganmarketing.com/event/purgatory-creek-live-at-charlies-restaurant-irish-pub-7/
ATTACH;FMTTYPE=image/jpeg:https://waterstreetinn.loganmarketing.com/wp-content/uploads/2026/01/558972355_122208333944052216_1922465352589935571_n.jpg
END:VEVENT
BEGIN:VEVENT
DTSTART;TZID=UTC:20251031T190000
DTEND;TZID=UTC:20251031T230000
DTSTAMP:20260425T062811
CREATED:20251016T213913Z
LAST-MODIFIED:20251016T213913Z
UID:10000459-1761937200-1761951600@waterstreetinn.loganmarketing.com
SUMMARY:Tom Dahill Live at Charlies Restaurant & Irish Pub
DESCRIPTION:Tom Dahill and Ginny Johnson are superb entertainers with a fantastic repertoire of old Irish songs and dance tunes that you won’t hear from anyone else. They have command of many instruments between them; Irish button\naccordion\, concertina\, uilleann pipes\, fiddle\, whistle\, bodhrán\, guitar and they sort of juggle these instruments between them to suit the sounds to fit the venue as they go along through their performances. This is the music that is part of the soul of Ireland.
URL:https://waterstreetinn.loganmarketing.com/event/tom-dahill-live-at-charlies-restaurant-irish-pub-3/
ATTACH;FMTTYPE=image/jpeg:https://waterstreetinn.loganmarketing.com/wp-content/uploads/2026/01/292538760_393940109384495_610921469680036498_n.jpg
END:VEVENT
BEGIN:VEVENT
DTSTART;TZID=UTC:20251101T190000
DTEND;TZID=UTC:20251101T230000
DTSTAMP:20260425T062811
CREATED:20251016T214000Z
LAST-MODIFIED:20251016T214000Z
UID:10000460-1762023600-1762038000@waterstreetinn.loganmarketing.com
SUMMARY:Tom Dahill Live at Charlie's Restaurant & Irish Pub
DESCRIPTION:Tom Dahill and Ginny Johnson are superb entertainers with a fantastic repertoire of old Irish songs and dance tunes that you won’t hear from anyone else. They have command of many instruments between them; Irish button\naccordion\, concertina\, uilleann pipes\, fiddle\, whistle\, bodhrán\, guitar and they sort of juggle these instruments between them to suit the sounds to fit the venue as they go along through their performances. This is the music that is part of the soul of Ireland.
URL:https://waterstreetinn.loganmarketing.com/event/tom-dahill-live-at-charlies-restaurant-irish-pub-4/
ATTACH;FMTTYPE=image/jpeg:https://waterstreetinn.loganmarketing.com/wp-content/uploads/2026/01/292538760_393940109384495_610921469680036498_n.jpg
END:VEVENT
BEGIN:VEVENT
DTSTART;TZID=UTC:20251104T173000
DTEND;TZID=UTC:20251104T203000
DTSTAMP:20260425T062811
CREATED:20250305T035241Z
LAST-MODIFIED:20260126T151158Z
UID:10000340-1762277400-1762288200@waterstreetinn.loganmarketing.com
SUMMARY:Stillwater Music Friends Acoustic Jam Band
DESCRIPTION:Every other week\, a group of friends gathers at Charlie’s Restaurant & Irish Pub from 5:30 to 8:30 PM for an acoustic jam session. They perform a diverse selection of music\, including Classic Rock\, Country\, R&B\, Jazz\, and Latin\, while also welcoming audience requests and contributions from fellow musicians. The session is entirely unplugged\, with the exception of the bass. The atmosphere is inviting\, and the music creates a lively and enjoyable experience for all.
URL:https://waterstreetinn.loganmarketing.com/event/stillwater-music-friends-acoustic-jam-band-18/
ATTACH;FMTTYPE=image/jpeg:https://waterstreetinn.loganmarketing.com/wp-content/uploads/2026/01/465671114_10234977716692340_4957771924046780728_n.jpg
END:VEVENT
BEGIN:VEVENT
DTSTART;TZID=UTC:20251105T170000
DTEND;TZID=UTC:20251105T210000
DTSTAMP:20260425T062811
CREATED:20251014T003450Z
LAST-MODIFIED:20251014T003450Z
UID:10000455-1762362000-1762376400@waterstreetinn.loganmarketing.com
SUMMARY:Wine Dinner at Charlie's Restaurant & Irish Pub
DESCRIPTION:In honor of our 30-Year Anniversary\, join us for a special four-course dinner at Charlie’s Restaurant! \nOur chefs have crafted a delectable menu\, perfectly paired with wines hand-selected by our talented bar team—all for just $34.95 per person. \nCelebrate three decades of flavor and hospitality—reservations are required! \nStay tuned for the menu! Coming soon \nRESERVE YOUR TABLE TODAY\nNote: When booking\, please mention “WINE DINNER” in the request section to confirm your reservation.
URL:https://waterstreetinn.loganmarketing.com/event/wine-dinner-at-charlies-restaurant-irish-pub/
ATTACH;FMTTYPE=image/jpeg:https://waterstreetinn.loganmarketing.com/wp-content/uploads/2026/01/Nov.-5th.jpg
END:VEVENT
BEGIN:VEVENT
DTSTART;TZID=UTC:20251107T190000
DTEND;TZID=UTC:20251107T230000
DTSTAMP:20260425T062811
CREATED:20250724T015235Z
LAST-MODIFIED:20260126T151323Z
UID:10000432-1762542000-1762556400@waterstreetinn.loganmarketing.com
SUMMARY:Bedlam Live at Charlie’s Restaurant and Irish Pub
DESCRIPTION:Bedlam is a band born out of the talent pool of the MN Renaissance Festival. Over the years\, the band has had a diverse sound and many different members. Its recent incarnation is a folk band with a hippie attitude. Many familiar songs with a different slant along with some original material as well. As the name implies a stage with this group on it is not a very stable one and you never know who may show up and sit in on a set
URL:https://waterstreetinn.loganmarketing.com/event/bedlam-live-at-charlies-restaurant-and-irish-pub-46/
ATTACH;FMTTYPE=image/jpeg:https://waterstreetinn.loganmarketing.com/wp-content/uploads/2026/01/bedlam-1-1-1.jpg
END:VEVENT
BEGIN:VEVENT
DTSTART;TZID=UTC:20251108T190000
DTEND;TZID=UTC:20251108T230000
DTSTAMP:20260425T062811
CREATED:20250724T020722Z
LAST-MODIFIED:20260126T151324Z
UID:10000433-1762628400-1762642800@waterstreetinn.loganmarketing.com
SUMMARY:Bedlam Live at Charlie’s Restaurant and Irish Pub
DESCRIPTION:Bedlam is a band born out of the talent pool of the MN Renaissance Festival. Over the years\, the band has had a diverse sound and many different members. Its recent incarnation is a folk band with a hippie attitude. Many familiar songs with a different slant along with some original material as well. As the name implies a stage with this group on it is not a very stable one and you never know who may show up and sit in on a set
URL:https://waterstreetinn.loganmarketing.com/event/bedlam-live-at-charlies-restaurant-and-irish-pub-47/
ATTACH;FMTTYPE=image/jpeg:https://waterstreetinn.loganmarketing.com/wp-content/uploads/2026/01/bedlam-1-1-1.jpg
END:VEVENT
BEGIN:VEVENT
DTSTART;TZID=UTC:20251112T170000
DTEND;TZID=UTC:20251112T210000
DTSTAMP:20260425T062811
CREATED:20251014T003525Z
LAST-MODIFIED:20251014T003525Z
UID:10000456-1762966800-1762981200@waterstreetinn.loganmarketing.com
SUMMARY:Wine Dinner at Charlie's Restaurant & Irish Pub
DESCRIPTION:In honor of our 30-Year Anniversary\, join us for a special four-course dinner at Charlie’s Restaurant! \nOur chefs have crafted a delectable menu\, perfectly paired with wines hand-selected by our talented bar team—all for just $34.95 per person. \nCelebrate three decades of flavor and hospitality—reservations are required! \nRESERVE YOUR TABLE TODAY\nNote: When booking\, please mention “WINE DINNER” in the request section to confirm your reservation.
URL:https://waterstreetinn.loganmarketing.com/event/wine-dinner-at-charlies-restaurant-irish-pub-2/
ATTACH;FMTTYPE=image/jpeg:https://waterstreetinn.loganmarketing.com/wp-content/uploads/2026/01/Nov-12.jpg
END:VEVENT
BEGIN:VEVENT
DTSTART;TZID=UTC:20251113T173000
DTEND;TZID=UTC:20251113T203000
DTSTAMP:20260425T062811
CREATED:20250305T035315Z
LAST-MODIFIED:20260126T151201Z
UID:10000341-1763055000-1763065800@waterstreetinn.loganmarketing.com
SUMMARY:Stillwater Music Friends Acoustic Jam Band
DESCRIPTION:Every other week\, a group of friends gathers at Charlie’s Restaurant & Irish Pub from 5:30 to 8:30 PM for an acoustic jam session. They perform a diverse selection of music\, including Classic Rock\, Country\, R&B\, Jazz\, and Latin\, while also welcoming audience requests and contributions from fellow musicians. The session is entirely unplugged\, with the exception of the bass. The atmosphere is inviting\, and the music creates a lively and enjoyable experience for all.
URL:https://waterstreetinn.loganmarketing.com/event/stillwater-music-friends-acoustic-jam-band-19/
ATTACH;FMTTYPE=image/jpeg:https://waterstreetinn.loganmarketing.com/wp-content/uploads/2026/01/465671114_10234977716692340_4957771924046780728_n.jpg
END:VEVENT
BEGIN:VEVENT
DTSTART;TZID=UTC:20251114T190000
DTEND;TZID=UTC:20251114T230000
DTSTAMP:20260425T062811
CREATED:20250724T021212Z
LAST-MODIFIED:20260126T151327Z
UID:10000435-1763146800-1763161200@waterstreetinn.loganmarketing.com
SUMMARY:Twin Prop Jane Live at Live at Charlie’s Restaurant and Irish Pub
DESCRIPTION:  \nStowaway folk sessions by Tam Jones\, Courtney Buck\, and Dee Brust featuring vocal harmonies\, fiddles\, banjo\, mandolin\, and guitar.Stowaway folk sessions by Tam Jones\, Courtney Buck\, and Dee Brust featuring vocal harmonies\, fiddles\, banjo\, mandolin\, and guitar.
URL:https://waterstreetinn.loganmarketing.com/event/twin-prop-jane-live-at-live-at-charlies-restaurant-and-irish-pub-2/
ATTACH;FMTTYPE=image/jpeg:https://waterstreetinn.loganmarketing.com/wp-content/uploads/2026/01/495047649_122155507664503962_4423974609505888688_n.jpg
END:VEVENT
BEGIN:VEVENT
DTSTART;TZID=UTC:20251115T190000
DTEND;TZID=UTC:20251115T230000
DTSTAMP:20260425T062811
CREATED:20250724T021049Z
LAST-MODIFIED:20250724T021049Z
UID:10000434-1763233200-1763247600@waterstreetinn.loganmarketing.com
SUMMARY:Twin Prop Jane Live at Live at Charlie’s Restaurant and Irish Pub
DESCRIPTION:  \nStowaway folk sessions by Tam Jones\, Courtney Buck\, and Dee Brust featuring vocal harmonies\, fiddles\, banjo\, mandolin\, and guitar.Stowaway folk sessions by Tam Jones\, Courtney Buck\, and Dee Brust featuring vocal harmonies\, fiddles\, banjo\, mandolin\, and guitar.
URL:https://waterstreetinn.loganmarketing.com/event/twin-prop-jane-live-at-live-at-charlies-restaurant-and-irish-pub/
ATTACH;FMTTYPE=image/jpeg:https://waterstreetinn.loganmarketing.com/wp-content/uploads/2026/01/495047649_122155507664503962_4423974609505888688_n.jpg
END:VEVENT
BEGIN:VEVENT
DTSTART;TZID=UTC:20251119T170000
DTEND;TZID=UTC:20251119T210000
DTSTAMP:20260425T062811
CREATED:20251014T003613Z
LAST-MODIFIED:20251014T003613Z
UID:10000457-1763571600-1763586000@waterstreetinn.loganmarketing.com
SUMMARY:Wine Dinner at Charlie's Restaurant & Irish Pub
DESCRIPTION:In honor of our 30-Year Anniversary\, join us for a special four-course dinner at Charlie’s Restaurant! \nOur chefs have crafted a delectable menu\, perfectly paired with wines hand-selected by our talented bar team—all for just $34.95 per person. \nCelebrate three decades of flavor and hospitality—reservations are required! \nStay tuned for the menu! Coming soon \nRESERVE YOUR TABLE TODAY\nNote: When booking\, please mention “WINE DINNER” in the request section to confirm your reservation.
URL:https://waterstreetinn.loganmarketing.com/event/wine-dinner-at-charlies-restaurant-irish-pub-3/
ATTACH;FMTTYPE=image/jpeg:https://waterstreetinn.loganmarketing.com/wp-content/uploads/2026/01/Feb-1-2023-10.jpg
END:VEVENT
BEGIN:VEVENT
DTSTART;TZID=UTC:20251121T190000
DTEND;TZID=UTC:20251121T230000
DTSTAMP:20260425T062812
CREATED:20250724T021434Z
LAST-MODIFIED:20250724T021434Z
UID:10000436-1763751600-1763766000@waterstreetinn.loganmarketing.com
SUMMARY:Prank Williams & The Broken Spoke Live at Charlie’s Restaurant and Irish Pub
DESCRIPTION:A high-energy Irish/folk band based in Saint Paul\, MN highlighting the sweet stringed sounds of the fiddle\, stand-up bass\, guitar\, and mandolin. Traditional Irish Music and Irish Rock with a\ntwist! Broken Spoke never fail to deliver an outstanding performance that will have you up on your feet before you know it!
URL:https://waterstreetinn.loganmarketing.com/event/the-broken-spoke-live-at-charlies-restaurant-and-irish-pub/
ATTACH;FMTTYPE=image/jpeg:https://waterstreetinn.loganmarketing.com/wp-content/uploads/2026/01/354204801_751603206971124_2100205559362048548_n.jpg
END:VEVENT
BEGIN:VEVENT
DTSTART;TZID=UTC:20251122T190000
DTEND;TZID=UTC:20251122T230000
DTSTAMP:20260425T062812
CREATED:20250724T021613Z
LAST-MODIFIED:20250724T021613Z
UID:10000437-1763838000-1763852400@waterstreetinn.loganmarketing.com
SUMMARY:Prank Williams & The Broken Spoke Live at Charlie’s Restaurant and Irish Pub
DESCRIPTION:A high-energy Irish/folk band based in Saint Paul\, MN highlighting the sweet stringed sounds of the fiddle\, stand-up bass\, guitar\, and mandolin. Traditional Irish Music and Irish Rock with a twist! Broken Spoke never fail to deliver an outstanding performance that will have you up on your feet before you know it!
URL:https://waterstreetinn.loganmarketing.com/event/the-broken-spoke-live-at-charlies-restaurant-and-irish-pub-2/
ATTACH;FMTTYPE=image/jpeg:https://waterstreetinn.loganmarketing.com/wp-content/uploads/2026/01/354204801_751603206971124_2100205559362048548_n.jpg
END:VEVENT
BEGIN:VEVENT
DTSTART;TZID=UTC:20251125T173000
DTEND;TZID=UTC:20251125T203000
DTSTAMP:20260425T062812
CREATED:20251122T003321Z
LAST-MODIFIED:20251122T003321Z
UID:10000468-1764091800-1764102600@waterstreetinn.loganmarketing.com
SUMMARY:Stillwater Music Friends Acoustic Jam Band
DESCRIPTION:Every other week\, a group of friends gathers at Charlie’s Restaurant & Irish Pub from 5:30 to 8:30 PM for an acoustic jam session. They perform a diverse selection of music\, including Classic Rock\, Country\, R&B\, Jazz\, and Latin\, while also welcoming audience requests and contributions from fellow musicians. The session is entirely unplugged\, with the exception of the bass. The atmosphere is inviting\, and the music creates a lively and enjoyable experience for all.
URL:https://waterstreetinn.loganmarketing.com/event/stillwater-music-friends-acoustic-jam-band-24/
ATTACH;FMTTYPE=image/jpeg:https://waterstreetinn.loganmarketing.com/wp-content/uploads/2026/01/465671114_10234977716692340_4957771924046780728_n.jpg
END:VEVENT
BEGIN:VEVENT
DTSTART;TZID=UTC:20251126T170000
DTEND;TZID=UTC:20251126T210000
DTSTAMP:20260425T062812
CREATED:20251014T003647Z
LAST-MODIFIED:20251014T003647Z
UID:10000458-1764176400-1764190800@waterstreetinn.loganmarketing.com
SUMMARY:Wine Dinner at Charlie's Restaurant & Irish Pub
DESCRIPTION:In honor of our 30-Year Anniversary\, join us for a special four-course dinner at Charlie’s Restaurant! \nOur chefs have crafted a delectable menu\, perfectly paired with wines hand-selected by our talented bar team—all for just $34.95 per person. \nCelebrate three decades of flavor and hospitality—reservations are required! \nRESERVE YOUR TABLE TODAY\nNote: When booking\, please mention “WINE DINNER” in the request section to confirm your reservation.
URL:https://waterstreetinn.loganmarketing.com/event/wine-dinner-at-charlies-resaurant-irish-pub/
ATTACH;FMTTYPE=image/jpeg:https://waterstreetinn.loganmarketing.com/wp-content/uploads/2026/01/Feb-1-2023-2-3.jpg
END:VEVENT
BEGIN:VEVENT
DTSTART;TZID=UTC:20251127T110000
DTEND;TZID=UTC:20251127T160000
DTSTAMP:20260425T062812
CREATED:20251007T223025Z
LAST-MODIFIED:20260126T151341Z
UID:10000451-1764241200-1764259200@waterstreetinn.loganmarketing.com
SUMMARY:Thanksgiving Dinner
DESCRIPTION:Join us Thursday\, November 27th\, from 11 am – 4 pm at Charlie’s Restaurant & Irish Pub and Water Street Inn for a feast to remember! Our Thanksgiving menu features everything from savory starters to holiday platters\, classic favorites\, and indulgent desserts. Let us handle the cooking\, so you can relax and enjoy a memorable holiday with family and friends.  \n\n\n\nRESERVE YOUR TABLE TODAY\nNote: When booking\, please mention “THANKSGIVING DINNER” in the request section to confirm your reservation.
URL:https://waterstreetinn.loganmarketing.com/event/thanksgiving-dinner-2/
ATTACH;FMTTYPE=image/jpeg:https://waterstreetinn.loganmarketing.com/wp-content/uploads/2026/01/Thanksgiving-Menu-2024-1.jpg
END:VEVENT
BEGIN:VEVENT
DTSTART;TZID=UTC:20251128T190000
DTEND;TZID=UTC:20251128T230000
DTSTAMP:20260425T062812
CREATED:20250724T021957Z
LAST-MODIFIED:20250724T021957Z
UID:10000439-1764356400-1764370800@waterstreetinn.loganmarketing.com
SUMMARY:Tom Dahill Live Charlie’s Restaurant and Irish Pub
DESCRIPTION:Tom Dahill and Ginny Johnson are superb entertainers with a fantastic repertoire of old Irish songs and dance tunes that you won’t hear from anyone else. They have command of many instruments between them; Irish button accordion\, concertina\, uilleann pipes\, fiddle\, whistle\, bodhrán\, guitar and they sort of juggle these instruments between them to suit the sounds to fit the venue as they go along through their performances. This is the music that is part of the soul of Ireland.
URL:https://waterstreetinn.loganmarketing.com/event/bonnie-drunken-lad-live-charlies-restaurant-and-irish-pub-4/
ATTACH;FMTTYPE=image/jpeg:https://waterstreetinn.loganmarketing.com/wp-content/uploads/2026/01/292538760_393940109384495_610921469680036498_n.jpg
END:VEVENT
BEGIN:VEVENT
DTSTART;TZID=UTC:20251129T190000
DTEND;TZID=UTC:20251129T230000
DTSTAMP:20260425T062812
CREATED:20250724T021822Z
LAST-MODIFIED:20250724T021822Z
UID:10000438-1764442800-1764457200@waterstreetinn.loganmarketing.com
SUMMARY:Tom Dahill Live Charlie’s Restaurant and Irish Pub
DESCRIPTION:Tom Dahill and Ginny Johnson are superb entertainers with a fantastic repertoire of old Irish songs and dance tunes that you won’t hear from anyone else. They have command of many instruments between them; Irish button accordion\, concertina\, uilleann pipes\, fiddle\, whistle\, bodhrán\, guitar and they sort of juggle these instruments between them to suit the sounds to fit the venue as they go along through their performances. This is the music that is part of the soul of Ireland.
URL:https://waterstreetinn.loganmarketing.com/event/bonnie-drunken-lad-live-charlies-restaurant-and-irish-pub-3/
ATTACH;FMTTYPE=image/jpeg:https://waterstreetinn.loganmarketing.com/wp-content/uploads/2026/01/292538760_393940109384495_610921469680036498_n.jpg
END:VEVENT
BEGIN:VEVENT
DTSTART;TZID=UTC:20251202T173000
DTEND;TZID=UTC:20251202T203000
DTSTAMP:20260425T062812
CREATED:20250305T035352Z
LAST-MODIFIED:20260126T151201Z
UID:10000342-1764696600-1764707400@waterstreetinn.loganmarketing.com
SUMMARY:Stillwater Music Friends Acoustic Jam Band
DESCRIPTION:Every other week\, a group of friends gathers at Charlie’s Restaurant & Irish Pub from 5:30 to 8:30 PM for an acoustic jam session. They perform a diverse selection of music\, including Classic Rock\, Country\, R&B\, Jazz\, and Latin\, while also welcoming audience requests and contributions from fellow musicians. The session is entirely unplugged\, with the exception of the bass. The atmosphere is inviting\, and the music creates a lively and enjoyable experience for all.
URL:https://waterstreetinn.loganmarketing.com/event/stillwater-music-friends-acoustic-jam-band-20/
ATTACH;FMTTYPE=image/jpeg:https://waterstreetinn.loganmarketing.com/wp-content/uploads/2026/01/465671114_10234977716692340_4957771924046780728_n.jpg
END:VEVENT
BEGIN:VEVENT
DTSTART;TZID=UTC:20251203T170000
DTEND;TZID=UTC:20251203T210000
DTSTAMP:20260425T062812
CREATED:20251111T012810Z
LAST-MODIFIED:20251111T012810Z
UID:10000462-1764781200-1764795600@waterstreetinn.loganmarketing.com
SUMMARY:Wine Wednesday Dinner at Charlie’s Restaurant and Irish Pub
DESCRIPTION:Every Wednesday\, the chefs at Charlie’s Restaurant prepare a delicious four-course dinner\, accompanied by wine pairings specially selected by our talented bar team\, for just $59.95/person.\n\nRESERVE YOUR TABLE TODAY\nNote: When booking\, please mention “WINE DINNER” in the request section to confirm your reservation.
URL:https://waterstreetinn.loganmarketing.com/event/wine-dinner-at-charlies-resaurant-irish-pub-2/
ATTACH;FMTTYPE=image/jpeg:https://waterstreetinn.loganmarketing.com/wp-content/uploads/2026/01/December-3-2025-.jpg
END:VEVENT
BEGIN:VEVENT
DTSTART;TZID=UTC:20251204T180000
DTEND;TZID=UTC:20251204T210000
DTSTAMP:20260425T062812
CREATED:20251028T020927Z
LAST-MODIFIED:20251028T020927Z
UID:10000461-1764871200-1764882000@waterstreetinn.loganmarketing.com
SUMMARY:Poured & Paired: A Guided Bourbon & Cigar Dinner Experience with Jefferson's Bourbon
DESCRIPTION:Join us Thursday\, December 4th\, 2025 | 6PM at Charlie’s Restaurant & Irish Pub and Water Street Inn. Enjoy an evening of exceptional flavor and craftsmanship featuring Jefferson’s Bourbon\, paired with a curated multi-course dinner and fine cigars — all for $99.95 per person.   \n\n\n\nRESERVE YOUR TABLE TODAY\nNote: When booking\, please mention “BOURBON & CIGAR DINNER” in the request section to confirm your reservation.
URL:https://waterstreetinn.loganmarketing.com/event/poured-paired-a-guided-bourbon-cigar-dinner-experience-with-jeffersons-bourbon/
ATTACH;FMTTYPE=image/jpeg:https://waterstreetinn.loganmarketing.com/wp-content/uploads/2026/01/12042025.jpg
END:VEVENT
BEGIN:VEVENT
DTSTART;TZID=UTC:20251205T190000
DTEND;TZID=UTC:20251205T230000
DTSTAMP:20260425T062812
CREATED:20250724T022331Z
LAST-MODIFIED:20250724T022331Z
UID:10000440-1764961200-1764975600@waterstreetinn.loganmarketing.com
SUMMARY:Bedlam Live at Charlie’s Restaurant and Irish Pub
DESCRIPTION:Bedlam is a band born out of the talent pool of the MN Renaissance Festival. Over the years\, the band has had a diverse sound and many different members. Its recent incarnation is a folk band with a hippie attitude. Many familiar songs with a different slant along with some original material as well. As the name implies a stage with this group on it is not a very stable one and you never know who may show up and sit in on a set
URL:https://waterstreetinn.loganmarketing.com/event/bedlam-live-at-charlies-restaurant-and-irish-pub-48/
ATTACH;FMTTYPE=image/jpeg:https://waterstreetinn.loganmarketing.com/wp-content/uploads/2026/01/bedlam-1-1.jpg
END:VEVENT
END:VCALENDAR