BEGIN:VCALENDAR
VERSION:2.0
PRODID:-//Water Street Inn - ECPv6.15.20//NONSGML v1.0//EN
CALSCALE:GREGORIAN
METHOD:PUBLISH
X-WR-CALNAME:Water Street Inn
X-ORIGINAL-URL:https://waterstreetinn.loganmarketing.com
X-WR-CALDESC:Events for Water Street Inn
REFRESH-INTERVAL;VALUE=DURATION:PT1H
X-Robots-Tag:noindex
X-PUBLISHED-TTL:PT1H
BEGIN:VTIMEZONE
TZID:UTC
BEGIN:STANDARD
TZOFFSETFROM:+0000
TZOFFSETTO:+0000
TZNAME:UTC
DTSTART:20230101T000000
END:STANDARD
END:VTIMEZONE
BEGIN:VEVENT
DTSTART;TZID=UTC:20241231T200000
DTEND;TZID=UTC:20241231T235900
DTSTAMP:20260425T203945
CREATED:20241220T234745Z
LAST-MODIFIED:20241220T234745Z
UID:10000273-1735675200-1735689540@waterstreetinn.loganmarketing.com
SUMMARY:Paul & Lorraine Live at Charlies Restaurant & Irish Pub
DESCRIPTION:Paul and Lorraine started with a rouge folk band (Folk Underground)\, then split off to form their own duo.  They bring a wide variety to the table\, including: lots of drinking\, lots of losing your love\, plenty of death\, doom\, and destruction\, along with happy little nights in the Pub. They take requests and will play almost anything (if they know about half of it!)
URL:https://waterstreetinn.loganmarketing.com/event/paul-lorraine-live-at-charlies-restaurant-irish-pub/
ATTACH;FMTTYPE=image/jpeg:https://waterstreetinn.loganmarketing.com/wp-content/uploads/2026/01/Paul-and-Lorraine-3.jpg
END:VEVENT
BEGIN:VEVENT
DTSTART;TZID=UTC:20241231T180000
DTEND;TZID=UTC:20241231T235900
DTSTAMP:20260425T203945
CREATED:20241202T004911Z
LAST-MODIFIED:20241202T004911Z
UID:10000271-1735668000-1735689540@waterstreetinn.loganmarketing.com
SUMMARY:New Years Eve 2024
DESCRIPTION:Live Music with Red Rock Swing Band! Midnight Champagne Toast! Dancing!\n$125 per person – Tickets include Dinner\, Dancing and Midnight Toast\nOvernight guests will receive Free New Years Day Brunch! Call to make your reservation today.
URL:https://waterstreetinn.loganmarketing.com/event/new-years-eve-2024/
ATTACH;FMTTYPE=image/jpeg:https://waterstreetinn.loganmarketing.com/wp-content/uploads/2026/01/New-Years-Eve-2024-scaled-1.jpg
END:VEVENT
BEGIN:VEVENT
DTSTART;TZID=UTC:20241228T190000
DTEND;TZID=UTC:20241228T230000
DTSTAMP:20260425T203945
CREATED:20241120T012446Z
LAST-MODIFIED:20241120T012446Z
UID:10000265-1735412400-1735426800@waterstreetinn.loganmarketing.com
SUMMARY:Purgatory Creek Live at Charlie’s Restaurant and Irish Pub
DESCRIPTION:Purgatory Creek is a band that tracks from Nashville to Belfast featuring the music of Dee Brust\, David Perry\, Adam Stemple\, and Ann Viviano.  This group has decades of performance between them\, and offers up folk rockin’ Irish Americana to take you the river\, the mine\, the mystic\, the mountain\, the shady grove\, and the devil’s backbone
URL:https://waterstreetinn.loganmarketing.com/event/purgatory-creek-live-at-charlies-restaurant-and-irish-pub-16/
ATTACH;FMTTYPE=image/jpeg:https://waterstreetinn.loganmarketing.com/wp-content/uploads/2026/01/purgatory-1.jpg
END:VEVENT
BEGIN:VEVENT
DTSTART;TZID=UTC:20241227T190000
DTEND;TZID=UTC:20241227T230000
DTSTAMP:20260425T203945
CREATED:20241120T012351Z
LAST-MODIFIED:20241120T012351Z
UID:10000264-1735326000-1735340400@waterstreetinn.loganmarketing.com
SUMMARY:Purgatory Creek Live at Charlie’s Restaurant and Irish Pub
DESCRIPTION:Purgatory Creek is a band that tracks from Nashville to Belfast featuring the music of Dee Brust\, David Perry\, Adam Stemple\, and Ann Viviano.  This group has decades of performance between them\, and offers up folk rockin’ Irish Americana to take you the river\, the mine\, the mystic\, the mountain\, the shady grove\, and the devil’s backbone
URL:https://waterstreetinn.loganmarketing.com/event/purgatory-creek-live-at-charlies-restaurant-and-irish-pub-15/
ATTACH;FMTTYPE=image/jpeg:https://waterstreetinn.loganmarketing.com/wp-content/uploads/2026/01/purgatory-1.jpg
END:VEVENT
BEGIN:VEVENT
DTSTART;TZID=UTC:20241221T190000
DTEND;TZID=UTC:20241221T230000
DTSTAMP:20260425T203945
CREATED:20241120T012029Z
LAST-MODIFIED:20241120T012029Z
UID:10000263-1734807600-1734822000@waterstreetinn.loganmarketing.com
SUMMARY:Prank Williams and the Broken Spoke Live at Charlie’s Restaurant and Irish Pub
DESCRIPTION:A high-energy Irish/folk band based in Saint Paul\, MN highlighting the sweet stringed sounds of the fiddle\, stand-up bass\, guitar\, and mandolin. Traditional Irish Music and Irish Rock with a twist! Broken Spoke never fail to deliver an outstanding performance that will have you up on your feet before you know it!
URL:https://waterstreetinn.loganmarketing.com/event/prank-williams-and-the-broken-spoke-live-at-charlies-restaurant-and-irish-pub-29/
ATTACH;FMTTYPE=image/jpeg:https://waterstreetinn.loganmarketing.com/wp-content/uploads/2026/01/354204801_751603206971124_2100205559362048548_n.jpg
END:VEVENT
BEGIN:VEVENT
DTSTART;TZID=UTC:20241221T090000
DTEND;TZID=UTC:20241221T120000
DTSTAMP:20260425T203945
CREATED:20241127T001443Z
LAST-MODIFIED:20241127T001443Z
UID:10000269-1734771600-1734782400@waterstreetinn.loganmarketing.com
SUMMARY:Breakfast Buffet with Santa
DESCRIPTION:Join us at the Water Street Inn for our annual festive tradition\, Breakfast with Santa!
URL:https://waterstreetinn.loganmarketing.com/event/breakfast-buffet-with-santa-2/
ATTACH;FMTTYPE=image/jpeg:https://waterstreetinn.loganmarketing.com/wp-content/uploads/2026/01/Screenshot-2024-11-26-101237.jpg
END:VEVENT
BEGIN:VEVENT
DTSTART;TZID=UTC:20241220T190000
DTEND;TZID=UTC:20241220T230000
DTSTAMP:20260425T203945
CREATED:20241120T011855Z
LAST-MODIFIED:20241120T011855Z
UID:10000262-1734721200-1734735600@waterstreetinn.loganmarketing.com
SUMMARY:Prank Williams and the Broken Spoke Live at Charlie’s Restaurant and Irish Pub
DESCRIPTION:A high-energy Irish/folk band based in Saint Paul\, MN highlighting the sweet stringed sounds of the fiddle\, stand-up bass\, guitar\, and mandolin. Traditional Irish Music and Irish Rock with a twist! Broken Spoke never fail to deliver an outstanding performance that will have you up on your feet before you know it!
URL:https://waterstreetinn.loganmarketing.com/event/prank-williams-and-the-broken-spoke-live-at-charlies-restaurant-and-irish-pub-28/
ATTACH;FMTTYPE=image/jpeg:https://waterstreetinn.loganmarketing.com/wp-content/uploads/2026/01/354204801_751603206971124_2100205559362048548_n.jpg
END:VEVENT
BEGIN:VEVENT
DTSTART;TZID=UTC:20241218T190000
DTEND;TZID=UTC:20241218T210000
DTSTAMP:20260425T203945
CREATED:20241206T045741Z
LAST-MODIFIED:20241206T045741Z
UID:10000272-1734548400-1734555600@waterstreetinn.loganmarketing.com
SUMMARY:Wine Wednesday Dinner at Charlie’s Restaurant and Irish Pub
DESCRIPTION:Every Wednesday\, the chefs at Charlie’s Restaurant prepare a delicious four-course dinner\, accompanied by wine pairings specially selected by our talented bar team\, for just $59.95/person. Reservations are required.\nReservations: Charlie’s Restaurant and Irish Pub – Reservations – Irish\, Pubs – Stillwater\, MN – Find Open Tables – Yelp
URL:https://waterstreetinn.loganmarketing.com/event/wine-wednesday-dinner-at-charlies-restaurant-and-irish-pub-76/
ATTACH;FMTTYPE=image/jpeg:https://waterstreetinn.loganmarketing.com/wp-content/uploads/2026/01/dec-18.jpg
END:VEVENT
BEGIN:VEVENT
DTSTART;TZID=UTC:20241215T090000
DTEND;TZID=UTC:20241215T120000
DTSTAMP:20260425T203945
CREATED:20241127T001354Z
LAST-MODIFIED:20241127T001354Z
UID:10000268-1734253200-1734264000@waterstreetinn.loganmarketing.com
SUMMARY:Breakfast Buffet with Santa
DESCRIPTION:Join us at the Water Street Inn for our annual festive tradition\, Breakfast with Santa!
URL:https://waterstreetinn.loganmarketing.com/event/breakfast-buffet-with-santa/
ATTACH;FMTTYPE=image/jpeg:https://waterstreetinn.loganmarketing.com/wp-content/uploads/2026/01/Screenshot-2024-11-26-101237.jpg
END:VEVENT
BEGIN:VEVENT
DTSTART;TZID=UTC:20241214T190000
DTEND;TZID=UTC:20241214T230000
DTSTAMP:20260425T203945
CREATED:20241120T010457Z
LAST-MODIFIED:20241120T010457Z
UID:10000261-1734202800-1734217200@waterstreetinn.loganmarketing.com
SUMMARY:Bonnie Drunken Lad Live at Charlie’s Restaurant and Irish Pub
DESCRIPTION:Bonnie Drunken Lad. A group of 4 lads and 1 lass (all with questionable Celtic heritage) with an interest in traditional and modern Irish drinking songs\, war anthems\, historical oddities\, sea shanties\, and anything Luke Kelly sings.  They practice in a shack in Apple Valley\, MN. Five miscreants\, one Bonnie Drunken Lad.
URL:https://waterstreetinn.loganmarketing.com/event/bonnie-drunken-lad-live-at-charlies-restaurant-and-irish-pub-2/
ATTACH;FMTTYPE=image/jpeg:https://waterstreetinn.loganmarketing.com/wp-content/uploads/2026/01/Bonnie-Drunken-Lad-2.jpg
END:VEVENT
BEGIN:VEVENT
DTSTART;TZID=UTC:20241214T100000
DTEND;TZID=UTC:20241214T120000
DTSTAMP:20260425T203945
CREATED:20241128T001757Z
LAST-MODIFIED:20241128T001757Z
UID:10000270-1734170400-1734177600@waterstreetinn.loganmarketing.com
SUMMARY:Hometown for the Holidays Gingerbread Building Contest at Water Street Inn
DESCRIPTION:Join us at Water Street Inn Saturday\, December 14th\, 2024 for the Hometown for the Holidays Gingerbread Building Contest from 10:00 AM – 12 PM! \nDon’t miss out on this Festive Family Event  View & vote for your favorite gingerbread house\, decorate Christmas cookies and things are about to get even more magical for the little ones\, fans of  Frozen. Queen Elsa\, Olaf and Sven will be on hand to meet and greet children and pose for photos. Enjoy the entertainment and treats where you can decorate your own Christmas cookie.  The winners of the gingerbread house making competition will be voted on and announced at 2 pm. \nThe gingerbread houses will be on display after the event in downtown Stillwater businesses for everyone to enjoy! \nLearn more and register to enter the Gingerbread Contest here
URL:https://waterstreetinn.loganmarketing.com/event/hometown-for-the-holidays-gingerbread-building-contest-at-water-street-inn/
ATTACH;FMTTYPE=image/png:https://waterstreetinn.loganmarketing.com/wp-content/uploads/2026/01/Gingerbread-Building-Contest-Flyer_11182024.png
END:VEVENT
BEGIN:VEVENT
DTSTART;TZID=UTC:20241213T190000
DTEND;TZID=UTC:20241213T230000
DTSTAMP:20260425T203945
CREATED:20241120T010406Z
LAST-MODIFIED:20241120T010406Z
UID:10000260-1734116400-1734130800@waterstreetinn.loganmarketing.com
SUMMARY:Bonnie Drunken Lad Live at Charlie’s Restaurant and Irish Pub
DESCRIPTION:Bonnie Drunken Lad. A group of 4 lads and 1 lass (all with questionable Celtic heritage) with an interest in traditional and modern Irish drinking songs\, war anthems\, historical oddities\, sea shanties\, and anything Luke Kelly sings.  They practice in a shack in Apple Valley\, MN. Five miscreants\, one Bonnie Drunken Lad.
URL:https://waterstreetinn.loganmarketing.com/event/bonnie-drunken-lad-live-at-charlies-restaurant-and-irish-pub/
ATTACH;FMTTYPE=image/jpeg:https://waterstreetinn.loganmarketing.com/wp-content/uploads/2026/01/Bonnie-Drunken-Lad-2.jpg
END:VEVENT
BEGIN:VEVENT
DTSTART;TZID=UTC:20241211T190000
DTEND;TZID=UTC:20241211T210000
DTSTAMP:20260425T203945
CREATED:20241120T013107Z
LAST-MODIFIED:20241120T013107Z
UID:10000267-1733943600-1733950800@waterstreetinn.loganmarketing.com
SUMMARY:Wine Wednesday Dinner at Charlie’s Restaurant and Irish Pub
DESCRIPTION:Every Wednesday\, the chefs at Charlie’s Restaurant prepare a delicious four-course dinner\, accompanied by wine pairings specially selected by our talented bar team\, for just $59.95/person. Reservations are required.\nReservations: Charlie’s Restaurant and Irish Pub – Reservations – Irish\, Pubs – Stillwater\, MN – Find Open Tables – Yelp
URL:https://waterstreetinn.loganmarketing.com/event/wine-wednesday-dinner-at-charlies-restaurant-and-irish-pub-75/
ATTACH;FMTTYPE=image/jpeg:https://waterstreetinn.loganmarketing.com/wp-content/uploads/2026/01/Feb-1-2023-1.jpg
END:VEVENT
BEGIN:VEVENT
DTSTART;TZID=UTC:20241207T190000
DTEND;TZID=UTC:20241207T230000
DTSTAMP:20260425T203945
CREATED:20241120T010025Z
LAST-MODIFIED:20241120T010025Z
UID:10000259-1733598000-1733612400@waterstreetinn.loganmarketing.com
SUMMARY:Bedlam Live at Charlie’s Restaurant and Irish Pub
DESCRIPTION:Bedlam is a band born out of the talent pool of the MN Renaissance Festival. Over the years\, the band has had a diverse sound and many different members. Its recent incarnation is a folk band with a hippie attitude. Many familiar songs with a different slant along with some original material as well. As the name implies a stage with this group on it is not a very stable one and you never know who may show up and sit in on a set
URL:https://waterstreetinn.loganmarketing.com/event/bedlam-live-at-charlies-restaurant-and-irish-pub-31/
ATTACH;FMTTYPE=image/jpeg:https://waterstreetinn.loganmarketing.com/wp-content/uploads/2026/01/bedlam-1-1-1.jpg
END:VEVENT
BEGIN:VEVENT
DTSTART;TZID=UTC:20241206T190000
DTEND;TZID=UTC:20241206T230000
DTSTAMP:20260425T203945
CREATED:20241120T005933Z
LAST-MODIFIED:20241120T005933Z
UID:10000258-1733511600-1733526000@waterstreetinn.loganmarketing.com
SUMMARY:Bedlam Live at Charlie’s Restaurant and Irish Pub
DESCRIPTION:Bedlam is a band born out of the talent pool of the MN Renaissance Festival. Over the years\, the band has had a diverse sound and many different members. Its recent incarnation is a folk band with a hippie attitude. Many familiar songs with a different slant along with some original material as well. As the name implies a stage with this group on it is not a very stable one and you never know who may show up and sit in on a set
URL:https://waterstreetinn.loganmarketing.com/event/bedlam-live-at-charlies-restaurant-and-irish-pub-30/
ATTACH;FMTTYPE=image/jpeg:https://waterstreetinn.loganmarketing.com/wp-content/uploads/2026/01/bedlam-1-1-1.jpg
END:VEVENT
BEGIN:VEVENT
DTSTART;TZID=UTC:20241205T190000
DTEND;TZID=UTC:20241205T210000
DTSTAMP:20260425T203945
CREATED:20241119T053100Z
LAST-MODIFIED:20241119T053100Z
UID:10000257-1733425200-1733432400@waterstreetinn.loganmarketing.com
SUMMARY:Bourbon & Cigar Dinner
DESCRIPTION:Join us every Thursday\, December 5th\, 2024 for our Bourbon & Cigar Dinner!
URL:https://waterstreetinn.loganmarketing.com/event/bourbon-cigar-dinner-2/
ATTACH;FMTTYPE=image/jpeg:https://waterstreetinn.loganmarketing.com/wp-content/uploads/2026/01/unnamed-1-1.jpg
END:VEVENT
BEGIN:VEVENT
DTSTART;TZID=UTC:20241204T170000
DTEND;TZID=UTC:20241204T210000
DTSTAMP:20260425T203945
CREATED:20241120T012958Z
LAST-MODIFIED:20241120T012958Z
UID:10000266-1733331600-1733346000@waterstreetinn.loganmarketing.com
SUMMARY:Wine Wednesday Dinner at Charlie’s Restaurant and Irish Pub
DESCRIPTION:Every Wednesday\, the chefs at Charlie’s Restaurant prepare a delicious four-course dinner\, accompanied by wine pairings specially selected by our talented bar team\, for just $59.95/person. Reservations are required.\nReservations: Charlie’s Restaurant and Irish Pub – Reservations – Irish\, Pubs – Stillwater\, MN – Find Open Tables – Yelp
URL:https://waterstreetinn.loganmarketing.com/event/wine-wednesday-dinner-at-charlies-restaurant-and-irish-pub-74/
ATTACH;FMTTYPE=image/jpeg:https://waterstreetinn.loganmarketing.com/wp-content/uploads/2026/01/Feb-1-2023-.jpg
END:VEVENT
BEGIN:VEVENT
DTSTART;TZID=UTC:20241130T190000
DTEND;TZID=UTC:20241130T230000
DTSTAMP:20260425T203945
CREATED:20241106T053507Z
LAST-MODIFIED:20241106T053507Z
UID:10000254-1732993200-1733007600@waterstreetinn.loganmarketing.com
SUMMARY:Northernly Gales Live at Charlie’s Restaurant and Irish Pub
DESCRIPTION:Hailing from the Twin Cities\, the Northerly Gales is a rollicking acoustic folk group whose music draws from the Irish\, Scottish\, Canadian and American folk traditions. Though primarily consisting of fiddle\, guitar\, pipes\, bass and voice\, the Gales love to mix it up with harmonica\, whistle\, mandolin\, bouzouki\, bodhran and whatever else they can get their hands on.
URL:https://waterstreetinn.loganmarketing.com/event/northernly-gales-live-at-charlies-restaurant-and-irish-pub-2/
ATTACH;FMTTYPE=image/jpeg:https://waterstreetinn.loganmarketing.com/wp-content/uploads/2026/01/Northerly-Gales-1.jpg
END:VEVENT
BEGIN:VEVENT
DTSTART;TZID=UTC:20241129T190000
DTEND;TZID=UTC:20241129T230000
DTSTAMP:20260425T203945
CREATED:20241106T053410Z
LAST-MODIFIED:20241106T053410Z
UID:10000253-1732906800-1732921200@waterstreetinn.loganmarketing.com
SUMMARY:Northernly Gales Live at Charlie’s Restaurant and Irish Pub
DESCRIPTION:Hailing from the Twin Cities\, the Northerly Gales is a rollicking acoustic folk group whose music draws from the Irish\, Scottish\, Canadian and American folk traditions. Though primarily consisting of fiddle\, guitar\, pipes\, bass and voice\, the Gales love to mix it up with harmonica\, whistle\, mandolin\, bouzouki\, bodhran and whatever else they can get their hands on.
URL:https://waterstreetinn.loganmarketing.com/event/northernly-gales-live-at-charlies-restaurant-and-irish-pub/
ATTACH;FMTTYPE=image/jpeg:https://waterstreetinn.loganmarketing.com/wp-content/uploads/2026/01/Northerly-Gales-1.jpg
END:VEVENT
BEGIN:VEVENT
DTSTART;TZID=UTC:20241128T110000
DTEND;TZID=UTC:20241128T160000
DTSTAMP:20260425T203945
CREATED:20241119T050432Z
LAST-MODIFIED:20260126T151031Z
UID:10000256-1732791600-1732809600@waterstreetinn.loganmarketing.com
SUMMARY:Thanksgiving Dinner
DESCRIPTION:Join us Thursday\, November 28th\, from 11 am – 4 pm at Charlie’s Restaurant & Irish Pub and Water Street Inn for a feast to remember! Our Thanksgiving menu features everything from savory starters to holiday platters\, classic favorites\, and indulgent desserts. Let us handle the cooking\, so you can relax and enjoy a memorable holiday with family and friends.  \n\n\n\nReserve your table today: waterstreetinn.us/charlies-restaurant
URL:https://waterstreetinn.loganmarketing.com/event/thanksgiving-dinner/
ATTACH;FMTTYPE=image/jpeg:https://waterstreetinn.loganmarketing.com/wp-content/uploads/2026/01/unnamed-3.jpg
END:VEVENT
BEGIN:VEVENT
DTSTART;TZID=UTC:20241127T170000
DTEND;TZID=UTC:20241127T210000
DTSTAMP:20260425T203945
CREATED:20241106T051714Z
LAST-MODIFIED:20241106T051714Z
UID:10000245-1732726800-1732741200@waterstreetinn.loganmarketing.com
SUMMARY:Wine Wednesday Dinner at Charlie’s Restaurant and Irish Pub
DESCRIPTION:Every Wednesday\, the chefs at Charlie’s Restaurant prepare a delicious four-course dinner\, accompanied by wine pairings specially selected by our talented bar team\, for just $59.95/person. Reservations are required.\nReservations: Charlie’s Restaurant and Irish Pub – Reservations – Irish\, Pubs – Stillwater\, MN – Find Open Tables – Yelp
URL:https://waterstreetinn.loganmarketing.com/event/wine-wednesday-dinner-at-charlies-restaurant-and-irish-pub-73/
ATTACH;FMTTYPE=image/jpeg:https://waterstreetinn.loganmarketing.com/wp-content/uploads/2026/01/Nov-27.jpg
END:VEVENT
BEGIN:VEVENT
DTSTART;TZID=UTC:20241123T190000
DTEND;TZID=UTC:20241123T230000
DTSTAMP:20260425T203945
CREATED:20241106T053620Z
LAST-MODIFIED:20241106T053620Z
UID:10000255-1732388400-1732402800@waterstreetinn.loganmarketing.com
SUMMARY:Mac & Cheese (Pete McCauley & Tim Cheesebrow) Live at Charlie’s Restaurant and Irish Pub
DESCRIPTION:Perfect for Carousing Fun music with lots of energy. Melodies that almost beg to be sung with a glass of stout
URL:https://waterstreetinn.loganmarketing.com/event/mac-cheese-pete-mccauley-tim-cheesebrow-live-at-charlies-restaurant-and-irish-pub-5/
ATTACH;FMTTYPE=image/jpeg:https://waterstreetinn.loganmarketing.com/wp-content/uploads/2026/01/Screenshot-2024-11-05-152740.jpg
END:VEVENT
BEGIN:VEVENT
DTSTART;TZID=UTC:20241122T190000
DTEND;TZID=UTC:20241122T230000
DTSTAMP:20260425T203945
CREATED:20241106T053159Z
LAST-MODIFIED:20241106T053159Z
UID:10000252-1732302000-1732316400@waterstreetinn.loganmarketing.com
SUMMARY:Mac & Cheese (Pete McCauley & Tim Cheesebrow) Live at Charlie’s Restaurant and Irish Pub
DESCRIPTION:Perfect for Carousing Fun music with lots of energy. Melodies that almost beg to be sung with a glass of stout
URL:https://waterstreetinn.loganmarketing.com/event/mac-cheese-pete-mccauley-tim-cheesebrow-live-at-charlies-restaurant-and-irish-pub-3/
ATTACH;FMTTYPE=image/jpeg:https://waterstreetinn.loganmarketing.com/wp-content/uploads/2026/01/Screenshot-2024-11-05-152740.jpg
END:VEVENT
BEGIN:VEVENT
DTSTART;TZID=UTC:20241120T170000
DTEND;TZID=UTC:20241120T210000
DTSTAMP:20260425T203945
CREATED:20241106T051614Z
LAST-MODIFIED:20241106T051614Z
UID:10000244-1732122000-1732136400@waterstreetinn.loganmarketing.com
SUMMARY:Wine Wednesday Dinner at Charlie’s Restaurant and Irish Pub
DESCRIPTION:Every Wednesday\, the chefs at Charlie’s Restaurant prepare a delicious four-course dinner\, accompanied by wine pairings specially selected by our talented bar team\, for just $59.95/person. Reservations are required.\nReservations: Charlie’s Restaurant and Irish Pub – Reservations – Irish\, Pubs – Stillwater\, MN – Find Open Tables – Yelp
URL:https://waterstreetinn.loganmarketing.com/event/wine-wednesday-dinner-at-charlies-restaurant-and-irish-pub-72/
ATTACH;FMTTYPE=image/jpeg:https://waterstreetinn.loganmarketing.com/wp-content/uploads/2026/01/Nov-20.jpg
END:VEVENT
BEGIN:VEVENT
DTSTART;TZID=UTC:20241116T190000
DTEND;TZID=UTC:20241116T230000
DTSTAMP:20260425T203945
CREATED:20241106T053018Z
LAST-MODIFIED:20241106T053018Z
UID:10000251-1731783600-1731798000@waterstreetinn.loganmarketing.com
SUMMARY:Prank Williams and the Broken Spoke Live at Charlie’s Restaurant and Irish Pub
DESCRIPTION:A high-energy Irish/folk band based in Saint Paul\, MN highlighting the sweet stringed sounds of the fiddle\, stand-up bass\, guitar\, and mandolin. Traditional Irish Music and Irish Rock with a twist! Broken Spoke never fail to deliver an outstanding performance that will have you up on your feet before you know it!
URL:https://waterstreetinn.loganmarketing.com/event/prank-williams-and-the-broken-spoke-live-at-charlies-restaurant-and-irish-pub-27/
ATTACH;FMTTYPE=image/jpeg:https://waterstreetinn.loganmarketing.com/wp-content/uploads/2026/01/354204801_751603206971124_2100205559362048548_n.jpg
END:VEVENT
BEGIN:VEVENT
DTSTART;TZID=UTC:20241115T190000
DTEND;TZID=UTC:20241115T230000
DTSTAMP:20260425T203945
CREATED:20241106T052923Z
LAST-MODIFIED:20241106T052923Z
UID:10000250-1731697200-1731711600@waterstreetinn.loganmarketing.com
SUMMARY:Prank Williams and the Broken Spoke Live at Charlie's Restaurant and Irish Pub
DESCRIPTION:A high-energy Irish/folk band based in Saint Paul\, MN highlighting the sweet stringed sounds of the fiddle\, stand-up bass\, guitar\, and mandolin. Traditional Irish Music and Irish Rock with a twist! Broken Spoke never fail to deliver an outstanding performance that will have you up on your feet before you know it!
URL:https://waterstreetinn.loganmarketing.com/event/prank-williams-and-the-broken-spoke-live-at-charlies-restaurant-and-irish-pub-26/
ATTACH;FMTTYPE=image/jpeg:https://waterstreetinn.loganmarketing.com/wp-content/uploads/2026/01/354204801_751603206971124_2100205559362048548_n.jpg
END:VEVENT
BEGIN:VEVENT
DTSTART;TZID=UTC:20241113T170000
DTEND;TZID=UTC:20241113T210000
DTSTAMP:20260425T203945
CREATED:20241106T051454Z
LAST-MODIFIED:20241106T051454Z
UID:10000243-1731517200-1731531600@waterstreetinn.loganmarketing.com
SUMMARY:Wine Wednesday Dinner at Charlie’s Restaurant and Irish Pub
DESCRIPTION:Every Wednesday\, the chefs at Charlie’s Restaurant prepare a delicious four-course dinner\, accompanied by wine pairings specially selected by our talented bar team\, for just $59.95/person. Reservations are required.\nReservations: Charlie’s Restaurant and Irish Pub – Reservations – Irish\, Pubs – Stillwater\, MN – Find Open Tables – Yelp
URL:https://waterstreetinn.loganmarketing.com/event/wine-wednesday-dinner-at-charlies-restaurant-and-irish-pub-71/
ATTACH;FMTTYPE=image/jpeg:https://waterstreetinn.loganmarketing.com/wp-content/uploads/2026/01/Nov-13.jpg
END:VEVENT
BEGIN:VEVENT
DTSTART;TZID=UTC:20241109T190000
DTEND;TZID=UTC:20241109T230000
DTSTAMP:20260425T203945
CREATED:20241106T052507Z
LAST-MODIFIED:20241106T052507Z
UID:10000249-1731178800-1731193200@waterstreetinn.loganmarketing.com
SUMMARY:Inland Seas Live at Charlie's Restaurant and Irish Pub
DESCRIPTION:Formed in 2017\, The Inland Seas brings together several experienced Minneapolis-based musicians to create a new Celtic/Americana ensemble. Combining lush vocals with fiddle\, whistle\, guitar\, mandolin\, and percussion\, the group plays a varied mix of tunes from rousing pub songs to mournful ballads. Come sing\, dance\, and drink along with many moods of The Inland Seas!
URL:https://waterstreetinn.loganmarketing.com/event/inland-seas-live-at-charlies-restaurant-and-irish-pub-7/
ATTACH;FMTTYPE=image/png:https://waterstreetinn.loganmarketing.com/wp-content/uploads/2026/01/Inland-Seas-1.png
END:VEVENT
BEGIN:VEVENT
DTSTART;TZID=UTC:20241108T190000
DTEND;TZID=UTC:20241108T230000
DTSTAMP:20260425T203945
CREATED:20241106T052425Z
LAST-MODIFIED:20241106T052425Z
UID:10000248-1731092400-1731106800@waterstreetinn.loganmarketing.com
SUMMARY:Inland Seas Live at Charlie's Restaurant and Irish Pub
DESCRIPTION:Formed in 2017\, The Inland Seas brings together several experienced Minneapolis-based musicians to create a new Celtic/Americana ensemble. Combining lush vocals with fiddle\, whistle\, guitar\, mandolin\, and percussion\, the group plays a varied mix of tunes from rousing pub songs to mournful ballads. Come sing\, dance\, and drink along with many moods of The Inland Seas!
URL:https://waterstreetinn.loganmarketing.com/event/inland-seas-live-at-charlies-restaurant-and-irish-pub-6/
ATTACH;FMTTYPE=image/png:https://waterstreetinn.loganmarketing.com/wp-content/uploads/2026/01/Inland-Seas-1.png
END:VEVENT
BEGIN:VEVENT
DTSTART;TZID=UTC:20241106T170000
DTEND;TZID=UTC:20241106T210000
DTSTAMP:20260425T203945
CREATED:20241106T051128Z
LAST-MODIFIED:20241106T051128Z
UID:10000242-1730912400-1730926800@waterstreetinn.loganmarketing.com
SUMMARY:Wine Wednesday Dinner at Charlie’s Restaurant and Irish Pub
DESCRIPTION:Every Wednesday\, the chefs at Charlie’s Restaurant prepare a delicious four-course dinner\, accompanied by wine pairings specially selected by our talented bar team\, for just $59.95/person. Reservations are required.\nReservations: Charlie’s Restaurant and Irish Pub – Reservations – Irish\, Pubs – Stillwater\, MN – Find Open Tables – Yelp
URL:https://waterstreetinn.loganmarketing.com/event/wine-wednesday-dinner-at-charlies-restaurant-and-irish-pub-70/
ATTACH;FMTTYPE=image/jpeg:https://waterstreetinn.loganmarketing.com/wp-content/uploads/2026/01/November-6th-2024.jpg
END:VEVENT
END:VCALENDAR