BEGIN:VCALENDAR
VERSION:2.0
PRODID:-//Water Street Inn - ECPv6.15.20//NONSGML v1.0//EN
CALSCALE:GREGORIAN
METHOD:PUBLISH
X-WR-CALNAME:Water Street Inn
X-ORIGINAL-URL:https://waterstreetinn.loganmarketing.com
X-WR-CALDESC:Events for Water Street Inn
REFRESH-INTERVAL;VALUE=DURATION:PT1H
X-Robots-Tag:noindex
X-PUBLISHED-TTL:PT1H
BEGIN:VTIMEZONE
TZID:UTC
BEGIN:STANDARD
TZOFFSETFROM:+0000
TZOFFSETTO:+0000
TZNAME:UTC
DTSTART:20250101T000000
END:STANDARD
END:VTIMEZONE
BEGIN:VEVENT
DTSTART;TZID=UTC:20260424T190000
DTEND;TZID=UTC:20260424T230000
DTSTAMP:20260424T092241
CREATED:20251224T005911Z
LAST-MODIFIED:20251224T005911Z
UID:10000508-1777057200-1777071600@waterstreetinn.loganmarketing.com
SUMMARY:Bonnie Drunken Lad Live at Charlie’s Restaurant and Irish Pub
DESCRIPTION:Bonnie Drunken Lad. A group of 4 lads and 1 lass (all with questionable Celtic heritage) with an interest in traditional and modern Irish drinking songs\, war anthems\, historical oddities\, sea shanties\, and anything Luke Kelly sings.  They practice in a shack in Apple Valley\, MN. Five miscreants\, one Bonnie Drunken Lad.
URL:https://waterstreetinn.loganmarketing.com/event/bonnie-drunken-lad-live-at-charlies-restaurant-and-irish-pub-10/
ATTACH;FMTTYPE=image/jpeg:https://waterstreetinn.loganmarketing.com/wp-content/uploads/2026/01/Bonnie-Drunken-Lad.jpg
END:VEVENT
END:VCALENDAR