BEGIN:VCALENDAR
VERSION:2.0
PRODID:-//Water Street Inn - ECPv6.15.20//NONSGML v1.0//EN
CALSCALE:GREGORIAN
METHOD:PUBLISH
X-ORIGINAL-URL:https://waterstreetinn.loganmarketing.com
X-WR-CALDESC:Events for Water Street Inn
REFRESH-INTERVAL;VALUE=DURATION:PT1H
X-Robots-Tag:noindex
X-PUBLISHED-TTL:PT1H
BEGIN:VTIMEZONE
TZID:UTC
BEGIN:STANDARD
TZOFFSETFROM:+0000
TZOFFSETTO:+0000
TZNAME:UTC
DTSTART:20250101T000000
END:STANDARD
END:VTIMEZONE
BEGIN:VEVENT
DTSTART;TZID=UTC:20260220T190000
DTEND;TZID=UTC:20260220T200000
DTSTAMP:20260424T143626
CREATED:20260107T023339Z
LAST-MODIFIED:20260126T151518Z
UID:10000551-1771614000-1771617600@waterstreetinn.loganmarketing.com
SUMMARY:Stillwater Winterfest: Fireworks Viewing from Papa's Rooftop
DESCRIPTION:Watch the Winterfest Fireworks from Papa’s Rooftop OR River Siren Brewing Company\, starting at 7:00pm on Friday\, February 20th\, 2026!\nYou can view from either location – enjoy a fire pit\, hot chocolate and beverages from the bar!\nLearn more about Stillwater Winterfest: stillwaterU.com\n 
URL:https://waterstreetinn.loganmarketing.com/event/stillwater-winterfest-fireworks-viewing-from-papas-rooftop/
ATTACH;FMTTYPE=image/jpeg:https://waterstreetinn.loganmarketing.com/wp-content/uploads/2026/01/593780316_1323458749822463_1294344539759549391_n.jpg
END:VEVENT
BEGIN:VEVENT
DTSTART;TZID=UTC:20260220T190000
DTEND;TZID=UTC:20260220T230000
DTSTAMP:20260424T143626
CREATED:20251224T002558Z
LAST-MODIFIED:20251224T002558Z
UID:10000486-1771614000-1771628400@waterstreetinn.loganmarketing.com
SUMMARY:Leslie Rich and the Rocket Soul Choir Live at Charlie's Restaurant and Irish Pub
DESCRIPTION:Northern Irish singer songwriter Leslie Rich creates authentic\, & cathartic rock and roll\, backed by the wonderfully monikered\, Rocket Soul Choir. The tightly rhythmic three piece are the perfect backing for songs that tug at the heart and crave for hope
URL:https://waterstreetinn.loganmarketing.com/event/leslie-rich-and-the-rocket-soul-choir-live-at-charlies-restaurant-and-irish-pub/
ATTACH;FMTTYPE=image/jpeg:https://waterstreetinn.loganmarketing.com/wp-content/uploads/2026/01/Rocket-Soul-Choir-1.jpg
END:VEVENT
END:VCALENDAR