BEGIN:VCALENDAR
VERSION:2.0
PRODID:-//Water Street Inn - ECPv6.15.20//NONSGML v1.0//EN
CALSCALE:GREGORIAN
METHOD:PUBLISH
X-WR-CALNAME:Water Street Inn
X-ORIGINAL-URL:https://waterstreetinn.loganmarketing.com
X-WR-CALDESC:Events for Water Street Inn
REFRESH-INTERVAL;VALUE=DURATION:PT1H
X-Robots-Tag:noindex
X-PUBLISHED-TTL:PT1H
BEGIN:VTIMEZONE
TZID:UTC
BEGIN:STANDARD
TZOFFSETFROM:+0000
TZOFFSETTO:+0000
TZNAME:UTC
DTSTART:20250101T000000
END:STANDARD
END:VTIMEZONE
BEGIN:VEVENT
DTSTART;TZID=UTC:20260116T100000
DTEND;TZID=UTC:20260118T170000
DTSTAMP:20260424T173957
CREATED:20251231T025611Z
LAST-MODIFIED:20260126T151511Z
UID:10000548-1768557600-1768755600@waterstreetinn.loganmarketing.com
SUMMARY:World Snow Celebration: HealthPartners Indoor Market
DESCRIPTION:Warm Up and Shop Local at the HealthPartners Indoor Market! \nAs part of the World Snow Celebration\, the always-popular HealthPartners Indoor Market returns – conveniently located inside the Water Street Inn! Step inside\, shake off the chill\, and explore an amazing lineup of sponsors\, local artisans\, and winter-themed vendors offering unique items inspired by snow\, the season\, and the celebration itself. You will find plenty of grab-and-go treasures – from cozy winter gear to event souvenirs – all available for purchase (cash or card accepted!). Don’t miss The Snow Store in the ballroom\, featuring commemorative World Snow Celebration merchandise like hats\, gloves\, T-shirts\, and more! All the fun happens in the ballroom on the main level of the Water Street Inn – and while you’re there\, be sure to enjoy food and drinks at Charlie’s Restaurant! \nCome shop\, chat\, and celebrate winter with us at the HealthPartners Indoor Market – during the World Snow Celebration\, January 16-18\, 2026! \n\nJanuary 16\, 2026 | 3-7PMJanuary 17-18\,2026 | 10am-5pm \nLearn more: https://www.worldsnowcelebration.com/activities
URL:https://waterstreetinn.loganmarketing.com/event/world-snow-celebration-healthpartners-indoor-market/
ATTACH;FMTTYPE=image/jpeg:https://waterstreetinn.loganmarketing.com/wp-content/uploads/2026/01/589294453_869655652251822_5023453630350477683_n.jpg
END:VEVENT
BEGIN:VEVENT
DTSTART;TZID=UTC:20260116T190000
DTEND;TZID=UTC:20260116T230000
DTSTAMP:20260424T173957
CREATED:20251224T005326Z
LAST-MODIFIED:20251224T005326Z
UID:10000502-1768590000-1768604400@waterstreetinn.loganmarketing.com
SUMMARY:The Broken Spoke Live at Charlie’s Restaurant and Irish Pub
DESCRIPTION:A high-energy Irish/folk band based in Saint Paul\, MN highlighting the sweet stringed sounds of the fiddle\, stand-up bass\, guitar\, and mandolin. Traditional Irish Music and Irish Rock with a twist! Broken Spoke never fail to deliver an outstanding performance that will have you up on your feet before you know it!
URL:https://waterstreetinn.loganmarketing.com/event/the-broken-spoke-live-at-charlies-restaurant-and-irish-pub-5/
ATTACH;FMTTYPE=image/jpeg:https://waterstreetinn.loganmarketing.com/wp-content/uploads/2026/01/354204801_751603206971124_2100205559362048548_n.jpg
END:VEVENT
END:VCALENDAR