BEGIN:VCALENDAR
VERSION:2.0
PRODID:-//Water Street Inn - ECPv6.15.20//NONSGML v1.0//EN
CALSCALE:GREGORIAN
METHOD:PUBLISH
X-WR-CALNAME:Water Street Inn
X-ORIGINAL-URL:https://waterstreetinn.loganmarketing.com
X-WR-CALDESC:Events for Water Street Inn
REFRESH-INTERVAL;VALUE=DURATION:PT1H
X-Robots-Tag:noindex
X-PUBLISHED-TTL:PT1H
BEGIN:VTIMEZONE
TZID:UTC
BEGIN:STANDARD
TZOFFSETFROM:+0000
TZOFFSETTO:+0000
TZNAME:UTC
DTSTART:20240101T000000
END:STANDARD
END:VTIMEZONE
BEGIN:VEVENT
DTSTART;TZID=UTC:20251212T190000
DTEND;TZID=UTC:20251212T230000
DTSTAMP:20260424T174847
CREATED:20251114T033220Z
LAST-MODIFIED:20251114T033220Z
UID:10000465-1765566000-1765580400@waterstreetinn.loganmarketing.com
SUMMARY:JAWSY Live Charlie’s Restaurant and Irish Pub
DESCRIPTION:JAWSY brings variety and storytelling to the stage through magical arrangements of all the best songs you almost forgot about\, with a flair for Irish and Bluegrass influence.  4 piece acoustic.  Come join us for 2 nights of wholesome music and cheer\, and of course\, Irish Whiskey and beer.
URL:https://waterstreetinn.loganmarketing.com/event/jawsy-live-charlies-restaurant-and-irish-pub/
ATTACH;FMTTYPE=image/jpeg:https://waterstreetinn.loganmarketing.com/wp-content/uploads/2026/01/1000000564.jpg
END:VEVENT
END:VCALENDAR