BEGIN:VCALENDAR
VERSION:2.0
PRODID:-//Water Street Inn - ECPv6.15.20//NONSGML v1.0//EN
CALSCALE:GREGORIAN
METHOD:PUBLISH
X-WR-CALNAME:Water Street Inn
X-ORIGINAL-URL:https://waterstreetinn.loganmarketing.com
X-WR-CALDESC:Events for Water Street Inn
REFRESH-INTERVAL;VALUE=DURATION:PT1H
X-Robots-Tag:noindex
X-PUBLISHED-TTL:PT1H
BEGIN:VTIMEZONE
TZID:UTC
BEGIN:STANDARD
TZOFFSETFROM:+0000
TZOFFSETTO:+0000
TZNAME:UTC
DTSTART:20240101T000000
END:STANDARD
END:VTIMEZONE
BEGIN:VEVENT
DTSTART;TZID=UTC:20251204T180000
DTEND;TZID=UTC:20251204T210000
DTSTAMP:20260424T174852
CREATED:20251028T020927Z
LAST-MODIFIED:20251028T020927Z
UID:10000461-1764871200-1764882000@waterstreetinn.loganmarketing.com
SUMMARY:Poured & Paired: A Guided Bourbon & Cigar Dinner Experience with Jefferson's Bourbon
DESCRIPTION:Join us Thursday\, December 4th\, 2025 | 6PM at Charlie’s Restaurant & Irish Pub and Water Street Inn. Enjoy an evening of exceptional flavor and craftsmanship featuring Jefferson’s Bourbon\, paired with a curated multi-course dinner and fine cigars — all for $99.95 per person.   \n\n\n\nRESERVE YOUR TABLE TODAY\nNote: When booking\, please mention “BOURBON & CIGAR DINNER” in the request section to confirm your reservation.
URL:https://waterstreetinn.loganmarketing.com/event/poured-paired-a-guided-bourbon-cigar-dinner-experience-with-jeffersons-bourbon/
ATTACH;FMTTYPE=image/jpeg:https://waterstreetinn.loganmarketing.com/wp-content/uploads/2026/01/12042025.jpg
END:VEVENT
END:VCALENDAR