BEGIN:VCALENDAR
VERSION:2.0
PRODID:-//Water Street Inn - ECPv6.15.20//NONSGML v1.0//EN
CALSCALE:GREGORIAN
METHOD:PUBLISH
X-ORIGINAL-URL:https://waterstreetinn.loganmarketing.com
X-WR-CALDESC:Events for Water Street Inn
REFRESH-INTERVAL;VALUE=DURATION:PT1H
X-Robots-Tag:noindex
X-PUBLISHED-TTL:PT1H
BEGIN:VTIMEZONE
TZID:UTC
BEGIN:STANDARD
TZOFFSETFROM:+0000
TZOFFSETTO:+0000
TZNAME:UTC
DTSTART:20240101T000000
END:STANDARD
END:VTIMEZONE
BEGIN:VEVENT
DTSTART;TZID=UTC:20250530T190000
DTEND;TZID=UTC:20250530T230000
DTSTAMP:20260425T093105
CREATED:20250428T225356Z
LAST-MODIFIED:20250428T225356Z
UID:10000381-1748631600-1748646000@waterstreetinn.loganmarketing.com
SUMMARY:Legacy Live at Charlie’s Restaurant and Irish Pub
DESCRIPTION:Based in the Twin Cities of Minnesota\, Legacy has been playing Celtic traditional tunes and pub-style songs in a way that sets it apart from other bands. Legacy offers a balanced selection of songs (traditional pub\, ballad\, and contemporary styles) and dance tunes (traditional and stylized arrangements).
URL:https://waterstreetinn.loganmarketing.com/event/legacy-live-at-charlies-restaurant-and-irish-pub-11/
ATTACH;FMTTYPE=image/jpeg:https://waterstreetinn.loganmarketing.com/wp-content/uploads/2026/01/Legacy-1.jpg
END:VEVENT
END:VCALENDAR