BEGIN:VCALENDAR
VERSION:2.0
PRODID:-//Water Street Inn - ECPv6.15.20//NONSGML v1.0//EN
CALSCALE:GREGORIAN
METHOD:PUBLISH
X-WR-CALNAME:Water Street Inn
X-ORIGINAL-URL:https://waterstreetinn.loganmarketing.com
X-WR-CALDESC:Events for Water Street Inn
REFRESH-INTERVAL;VALUE=DURATION:PT1H
X-Robots-Tag:noindex
X-PUBLISHED-TTL:PT1H
BEGIN:VTIMEZONE
TZID:UTC
BEGIN:STANDARD
TZOFFSETFROM:+0000
TZOFFSETTO:+0000
TZNAME:UTC
DTSTART:20240101T000000
END:STANDARD
END:VTIMEZONE
BEGIN:VEVENT
DTSTART;TZID=UTC:20250521T180000
DTEND;TZID=UTC:20250521T200000
DTSTAMP:20260425T164032
CREATED:20250407T231616Z
LAST-MODIFIED:20260126T151233Z
UID:10000372-1747850400-1747857600@waterstreetinn.loganmarketing.com
SUMMARY:Wine Wednesday Dinner at Charlie’s Restaurant and Irish Pub with Jackson Family Wines
DESCRIPTION:Join us on Wednesday\, May 21st\, at 6 PM for an exclusive Wine Winner evening featuring Jackson Family Wines at Charlie’s Restaurant! Savor a chef-crafted four-course dinner\, each dish expertly paired with exceptional Jackson Family Wines. Plus\, a Jackson Family expert will guide you through the pairings\, sharing insights on each selection. \nAll this for just $79 per person! \nReservations are required—secure your spot now: Charlie’s Restaurant and Irish Pub – Reservations – Irish\, Pubs – Stillwater\, MN – Find Open Tables – Yelp \nBut wait — there’s more! Guests attending the Jackson Family Wine Dinner can enjoy ½ off their stay when they book a room with us. Treat yourself to the full experience — just give us a call to reserve your spot! 
URL:https://waterstreetinn.loganmarketing.com/event/wine-wednesday-dinner-at-charlies-restaurant-and-irish-pub-with-jackson-family-wines/
ATTACH;FMTTYPE=image/jpeg:https://waterstreetinn.loganmarketing.com/wp-content/uploads/2026/01/Screenshot-2025-04-28-131933.jpg
END:VEVENT
END:VCALENDAR