BEGIN:VCALENDAR
VERSION:2.0
PRODID:-//Water Street Inn - ECPv6.15.20//NONSGML v1.0//EN
CALSCALE:GREGORIAN
METHOD:PUBLISH
X-ORIGINAL-URL:https://waterstreetinn.loganmarketing.com
X-WR-CALDESC:Events for Water Street Inn
REFRESH-INTERVAL;VALUE=DURATION:PT1H
X-Robots-Tag:noindex
X-PUBLISHED-TTL:PT1H
BEGIN:VTIMEZONE
TZID:UTC
BEGIN:STANDARD
TZOFFSETFROM:+0000
TZOFFSETTO:+0000
TZNAME:UTC
DTSTART:20240101T000000
END:STANDARD
END:VTIMEZONE
BEGIN:VEVENT
DTSTART;VALUE=DATE:20250517
DTEND;VALUE=DATE:20250518
DTSTAMP:20260425T110819
CREATED:20250428T225039Z
LAST-MODIFIED:20250428T225039Z
UID:10000378-1747440000-1747526399@waterstreetinn.loganmarketing.com
SUMMARY:Dine Here Dance Here
DESCRIPTION:Dine Here Dance Here is a community event that benefits the Veterans Memorial on Saturday May 17th located on Chestnut Plaza right in front of the historic Lift Bridge.  The event celebrates the historic street dances from Stillwater past while featuring many local talents of the present.  For 2025\, it is a 70’s theme and will feature – open to the public – live music\, beer / drinks garden\, and raffles throughout the afternoon & evening
URL:https://waterstreetinn.loganmarketing.com/event/dine-here-dance-here/
END:VEVENT
END:VCALENDAR