BEGIN:VCALENDAR
VERSION:2.0
PRODID:-//Water Street Inn - ECPv6.15.20//NONSGML v1.0//EN
CALSCALE:GREGORIAN
METHOD:PUBLISH
X-ORIGINAL-URL:https://waterstreetinn.loganmarketing.com
X-WR-CALDESC:Events for Water Street Inn
REFRESH-INTERVAL;VALUE=DURATION:PT1H
X-Robots-Tag:noindex
X-PUBLISHED-TTL:PT1H
BEGIN:VTIMEZONE
TZID:UTC
BEGIN:STANDARD
TZOFFSETFROM:+0000
TZOFFSETTO:+0000
TZNAME:UTC
DTSTART:20240101T000000
END:STANDARD
END:VTIMEZONE
BEGIN:VEVENT
DTSTART;TZID=UTC:20250511T090000
DTEND;TZID=UTC:20250511T150000
DTSTAMP:20260425T110838
CREATED:20250411T220811Z
LAST-MODIFIED:20250411T220811Z
UID:10000374-1746954000-1746975600@waterstreetinn.loganmarketing.com
SUMMARY:Mother's Day Buffet 2025
DESCRIPTION:Treat Mom to a day she’ll cherish! Join us for a special Mother’s Day Buffet at Charlie’s Restaurant & Irish Pub inside Water Street Inn—Sunday\, May 11th from 9AM to 3PM. \nEnjoy a delicious spread featuring assorted pastries\, roasted shrimp cocktail\, fresh salads\, cinnamon French toast\, braised short ribs\, and so much more! Call now to make your reservation—let’s make this Mother’s Day one to remember. \n $39.95/person.\, $19.95 kids. Reservations are required. Reservations: Charlie’s Restaurant and Irish Pub – Reservations – Irish\, Pubs – Stillwater\, MN – Find Open Tables – Yelp
URL:https://waterstreetinn.loganmarketing.com/event/mothers-day-buffet-2025/
ATTACH;FMTTYPE=image/jpeg:https://waterstreetinn.loganmarketing.com/wp-content/uploads/2026/01/Mothers-Day-Buffet.jpg
END:VEVENT
END:VCALENDAR