BEGIN:VCALENDAR
VERSION:2.0
PRODID:-//Water Street Inn - ECPv6.15.20//NONSGML v1.0//EN
CALSCALE:GREGORIAN
METHOD:PUBLISH
X-ORIGINAL-URL:https://waterstreetinn.loganmarketing.com
X-WR-CALDESC:Events for Water Street Inn
REFRESH-INTERVAL;VALUE=DURATION:PT1H
X-Robots-Tag:noindex
X-PUBLISHED-TTL:PT1H
BEGIN:VTIMEZONE
TZID:UTC
BEGIN:STANDARD
TZOFFSETFROM:+0000
TZOFFSETTO:+0000
TZNAME:UTC
DTSTART:20240101T000000
END:STANDARD
END:VTIMEZONE
BEGIN:VEVENT
DTSTART;TZID=UTC:20250420T090000
DTEND;TZID=UTC:20250420T140000
DTSTAMP:20260425T140809
CREATED:20250321T002641Z
LAST-MODIFIED:20250321T002641Z
UID:10000365-1745139600-1745157600@waterstreetinn.loganmarketing.com
SUMMARY:Easter Buffet
DESCRIPTION:Join Water Street Inn & Charlie’s Restaurant and Irish Pub for a Spectacular Easter Buffet!\nSunday\, April 20th | 9 AM – 2 PM \nIndulge in a delicious Easter feast featuring highlights like:\n– Roasted shrimp cocktail with lemon horseradish aioli\n– Herb-roasted pork tenderloin with pork au jus\n– Garlic mashed potatoes with Boursin cheese\n– Tres leches French toast & assorted desserts\n+ MORE! \nAdults – $39.95 | Kids – $19.95 \nReservations: Call 651-439-6000 or book online at Charlie’s Restaurant and Irish Pub – Reservations – Irish\, Pubs – Stillwater\, MN – Find Open Tables – Yelp
URL:https://waterstreetinn.loganmarketing.com/event/easter-buffet/
ATTACH;FMTTYPE=image/jpeg:https://waterstreetinn.loganmarketing.com/wp-content/uploads/2026/01/Easter-Buffet.jpg
END:VEVENT
END:VCALENDAR