BEGIN:VCALENDAR
VERSION:2.0
PRODID:-//Water Street Inn - ECPv6.15.20//NONSGML v1.0//EN
CALSCALE:GREGORIAN
METHOD:PUBLISH
X-WR-CALNAME:Water Street Inn
X-ORIGINAL-URL:https://waterstreetinn.loganmarketing.com
X-WR-CALDESC:Events for Water Street Inn
REFRESH-INTERVAL;VALUE=DURATION:PT1H
X-Robots-Tag:noindex
X-PUBLISHED-TTL:PT1H
BEGIN:VTIMEZONE
TZID:UTC
BEGIN:STANDARD
TZOFFSETFROM:+0000
TZOFFSETTO:+0000
TZNAME:UTC
DTSTART:20240101T000000
END:STANDARD
END:VTIMEZONE
BEGIN:VEVENT
DTSTART;VALUE=DATE:20250418
DTEND;VALUE=DATE:20250419
DTSTAMP:20260425T123853
CREATED:20250404T004056Z
LAST-MODIFIED:20250404T004056Z
UID:10000371-1744934400-1745020799@waterstreetinn.loganmarketing.com
SUMMARY:Lent Specials
DESCRIPTION:Every Friday through Lent\, feast on endless crispy cod with our All-You-Can-Eat Cod Special! Prefer a plate? Enjoy our classic Cod Dinner\, or mix it up with our delicious Coconut Shrimp and more seafood favorites Gather your crew and make Friday nights a tradition—because good food and great company are always a catch! \nReservations: Charlie’s Restaurant and Irish Pub – Reservations – Irish\, Pubs – Stillwater\, MN – Find Open Tables – Yelp
URL:https://waterstreetinn.loganmarketing.com/event/lent-specials-6/
ATTACH;FMTTYPE=image/jpeg:https://waterstreetinn.loganmarketing.com/wp-content/uploads/2026/01/Copy-of-Copy-of-Specials.jpg
END:VEVENT
BEGIN:VEVENT
DTSTART;TZID=UTC:20250418T190000
DTEND;TZID=UTC:20250418T230000
DTSTAMP:20260425T123853
CREATED:20250306T001929Z
LAST-MODIFIED:20250306T001929Z
UID:10000359-1745002800-1745017200@waterstreetinn.loganmarketing.com
SUMMARY:Tom Dahill & Ginny Johnson Live at Charlies Restaurant & Irish Pub
DESCRIPTION:Tom and Ginny bring alive the soul of Ireland. Using Irish button accordion\, concertina\, fiddle–and other instruments–they play heavy music with a light touch. Performing tunes learned from the old masters\, they delight audiences with passionate reels and playful songs not heard anywhere else.
URL:https://waterstreetinn.loganmarketing.com/event/prank-williams-and-the-broken-spoke-live-at-charlies-restaurant-irish-pub-3/
ATTACH;FMTTYPE=image/jpeg:https://waterstreetinn.loganmarketing.com/wp-content/uploads/2026/01/292538760_393940109384495_610921469680036498_n.jpg
END:VEVENT
END:VCALENDAR