BEGIN:VCALENDAR
VERSION:2.0
PRODID:-//Water Street Inn - ECPv6.15.20//NONSGML v1.0//EN
CALSCALE:GREGORIAN
METHOD:PUBLISH
X-WR-CALNAME:Water Street Inn
X-ORIGINAL-URL:https://waterstreetinn.loganmarketing.com
X-WR-CALDESC:Events for Water Street Inn
REFRESH-INTERVAL;VALUE=DURATION:PT1H
X-Robots-Tag:noindex
X-PUBLISHED-TTL:PT1H
BEGIN:VTIMEZONE
TZID:UTC
BEGIN:STANDARD
TZOFFSETFROM:+0000
TZOFFSETTO:+0000
TZNAME:UTC
DTSTART:20240101T000000
END:STANDARD
END:VTIMEZONE
BEGIN:VEVENT
DTSTART;VALUE=DATE:20250404
DTEND;VALUE=DATE:20250405
DTSTAMP:20260425T123855
CREATED:20250305T042108Z
LAST-MODIFIED:20250305T042108Z
UID:10000349-1743724800-1743811199@waterstreetinn.loganmarketing.com
SUMMARY:Lent Specials
DESCRIPTION:Every Friday through Lent\, feast on endless crispy cod with our All-You-Can-Eat Cod Special! Prefer a plate? Enjoy our classic Cod Dinner\, or mix it up with our delicious Coconut Shrimp and more seafood favorites Gather your crew and make Friday nights a tradition—because good food and great company are always a catch! \nReservations: Charlie’s Restaurant and Irish Pub – Reservations – Irish\, Pubs – Stillwater\, MN – Find Open Tables – Yelp
URL:https://waterstreetinn.loganmarketing.com/event/lent-specials-4/
ATTACH;FMTTYPE=image/jpeg:https://waterstreetinn.loganmarketing.com/wp-content/uploads/2026/01/Copy-of-Copy-of-Specials.jpg
END:VEVENT
BEGIN:VEVENT
DTSTART;TZID=UTC:20250404T190000
DTEND;TZID=UTC:20250404T230000
DTSTAMP:20260425T123855
CREATED:20250306T001230Z
LAST-MODIFIED:20250306T001230Z
UID:10000355-1743793200-1743807600@waterstreetinn.loganmarketing.com
SUMMARY:Bedlam Live Charlie’s Restaurant and Irish Pub
DESCRIPTION:Bedlam is a band born out of the talent pool of the MN Renaissance Festival. Over the years\, the band has had a diverse sound\nand many different members. Its recent incarnation is a folk band with a hippie attitude. Many familiar songs with a different\nslant along with some original material as well. As the name implies a stage with this group on it is not a very stable one and you\nnever know who may show up and sit in on a set
URL:https://waterstreetinn.loganmarketing.com/event/bedlam-live-charlies-restaurant-and-irish-pub/
ATTACH;FMTTYPE=image/jpeg:https://waterstreetinn.loganmarketing.com/wp-content/uploads/2026/01/bedlam-1-1-1.jpg
END:VEVENT
END:VCALENDAR