BEGIN:VCALENDAR
VERSION:2.0
PRODID:-//Water Street Inn - ECPv6.15.20//NONSGML v1.0//EN
CALSCALE:GREGORIAN
METHOD:PUBLISH
X-ORIGINAL-URL:https://waterstreetinn.loganmarketing.com
X-WR-CALDESC:Events for Water Street Inn
REFRESH-INTERVAL;VALUE=DURATION:PT1H
X-Robots-Tag:noindex
X-PUBLISHED-TTL:PT1H
BEGIN:VTIMEZONE
TZID:UTC
BEGIN:STANDARD
TZOFFSETFROM:+0000
TZOFFSETTO:+0000
TZNAME:UTC
DTSTART:20240101T000000
END:STANDARD
END:VTIMEZONE
BEGIN:VEVENT
DTSTART;TZID=UTC:20250222T180000
DTEND;TZID=UTC:20250222T180000
DTSTAMP:20260425T154550
CREATED:20250220T020656Z
LAST-MODIFIED:20260126T151136Z
UID:10000317-1740247200-1740247200@waterstreetinn.loganmarketing.com
SUMMARY:Stillwater Winterfest 2025 & Fireworks Show
DESCRIPTION:JOIN US FOR STILLWATER WINTERFEST 2025 THIS WEEK!\n\n\n\nJoin us for the Stillwater Winterfest celebration THIS WEEK\, from February 19th – 24th\, and experience a week of winter fun and excitement in the historic Stillwater\, Minnesota. With a variety of activities\, it’s the perfect way to embrace the magic of the season!\n\n\n\nStop by Charlie’s Restaurant & Irish Pub within Water Street Inn all week for the Parka Pub Crawl & Shop Local Stroll – Stillwater Winterfest 2025\, and don’t miss the spectacular Winterfest Fireworks Viewing at Papa’s Rooftop & River Siren Brewing show on Saturday\, February 22nd\, at 6 PM on Papa’s Rooftop. From 4 PM – 8 PM\, enjoy free hot chocolate\, a full bar\, and a cozy atmosphere to warm up while taking in the winter festivities.\n\n\nLearn more about Stillwater Winterfest 2025 at StillwaterU.com\nInterested in staying with us during this festive week? Book your room now: https://waterstreetinn.us/
URL:https://waterstreetinn.loganmarketing.com/event/stillwater-winterfest-2025-fireworks-show/
ATTACH;FMTTYPE=image/png:https://waterstreetinn.loganmarketing.com/wp-content/uploads/2026/01/2744.png
END:VEVENT
BEGIN:VEVENT
DTSTART;TZID=UTC:20250222T190000
DTEND;TZID=UTC:20250222T230000
DTSTAMP:20260425T154550
CREATED:20250114T012850Z
LAST-MODIFIED:20250114T012850Z
UID:10000291-1740250800-1740265200@waterstreetinn.loganmarketing.com
SUMMARY:Prank Williams and the Broken Spoke Live at Charlie’s Restaurant and Irish Pub
DESCRIPTION:A high-energy Irish/folk band based in Saint Paul\, MN highlighting the sweet stringed sounds of the fiddle\, stand-up bass\, guitar\, and mandolin. Traditional Irish Music and Irish Rock with a twist! Broken Spoke never fail to deliver an outstanding performance that will have you up on your feet before you know it!
URL:https://waterstreetinn.loganmarketing.com/event/prank-williams-and-the-broken-spoke-live-at-charlies-restaurant-and-irish-pub-31/
ATTACH;FMTTYPE=image/jpeg:https://waterstreetinn.loganmarketing.com/wp-content/uploads/2026/01/354204801_751603206971124_2100205559362048548_n.jpg
END:VEVENT
END:VCALENDAR