BEGIN:VCALENDAR
VERSION:2.0
PRODID:-//Water Street Inn - ECPv6.15.20//NONSGML v1.0//EN
CALSCALE:GREGORIAN
METHOD:PUBLISH
X-WR-CALNAME:Water Street Inn
X-ORIGINAL-URL:https://waterstreetinn.loganmarketing.com
X-WR-CALDESC:Events for Water Street Inn
REFRESH-INTERVAL;VALUE=DURATION:PT1H
X-Robots-Tag:noindex
X-PUBLISHED-TTL:PT1H
BEGIN:VTIMEZONE
TZID:UTC
BEGIN:STANDARD
TZOFFSETFROM:+0000
TZOFFSETTO:+0000
TZNAME:UTC
DTSTART:20240101T000000
END:STANDARD
END:VTIMEZONE
BEGIN:VEVENT
DTSTART;TZID=UTC:20250125T080000
DTEND;TZID=UTC:20250125T170000
DTSTAMP:20260425T172811
CREATED:20250115T214038Z
LAST-MODIFIED:20250115T214038Z
UID:10000308-1737792000-1737824400@waterstreetinn.loganmarketing.com
SUMMARY:Frozen Flannel Outdoor Bonspiel
DESCRIPTION:Enjoy playing or spectating in beautiful downtown Stillwater on Saturday\, January 25th\, 2025 on the Ice Rink at Water Street Inn during the Frozen Flannel Outdoor Bonspiel 2025! \nCheck-In 8AMNational Anthem 9AMPlay begins 9:15AM \nRegister here: https://tinyurl.com/34pf4nv2
URL:https://waterstreetinn.loganmarketing.com/event/frozen-flannel-outdoor-bonspiel/
END:VEVENT
BEGIN:VEVENT
DTSTART;TZID=UTC:20250125T190000
DTEND;TZID=UTC:20250125T230000
DTSTAMP:20260425T172811
CREATED:20241221T000232Z
LAST-MODIFIED:20241221T000232Z
UID:10000281-1737831600-1737846000@waterstreetinn.loganmarketing.com
SUMMARY:Bonnie Drunken Lad Live at Charlies Restaurant & Irish Pub
DESCRIPTION:Bonnie Drunken Lad. A group of 4 lads and 1 lass (all with questionable Celtic heritage) with an interest in traditional and modern Irish drinking songs\, war anthems\, historical oddities\, sea shanties\, and anything Luke Kelly sings.  They practice in a shack in Apple Valley\, MN. Five miscreants\, one Bonnie Drunken Lad.
URL:https://waterstreetinn.loganmarketing.com/event/bonnie-drunken-lad-live-at-charlies-restaurant-irish-pub-2/
ATTACH;FMTTYPE=image/jpeg:https://waterstreetinn.loganmarketing.com/wp-content/uploads/2026/01/Bonnie-Drunken-Lad.jpg
END:VEVENT
END:VCALENDAR