BEGIN:VCALENDAR
VERSION:2.0
PRODID:-//Water Street Inn - ECPv6.15.20//NONSGML v1.0//EN
CALSCALE:GREGORIAN
METHOD:PUBLISH
X-ORIGINAL-URL:https://waterstreetinn.loganmarketing.com
X-WR-CALDESC:Events for Water Street Inn
REFRESH-INTERVAL;VALUE=DURATION:PT1H
X-Robots-Tag:noindex
X-PUBLISHED-TTL:PT1H
BEGIN:VTIMEZONE
TZID:UTC
BEGIN:STANDARD
TZOFFSETFROM:+0000
TZOFFSETTO:+0000
TZNAME:UTC
DTSTART:20240101T000000
END:STANDARD
END:VTIMEZONE
BEGIN:VEVENT
DTSTART;TZID=UTC:20250117T080000
DTEND;TZID=UTC:20250119T170000
DTSTAMP:20260425T172902
CREATED:20250115T213215Z
LAST-MODIFIED:20250115T213215Z
UID:10000304-1737100800-1737306000@waterstreetinn.loganmarketing.com
SUMMARY:World Snow Celebration Indoor Market at Water Street Inn Ballroom
DESCRIPTION:The 4th annual World Snow Celebration features a very popular Indoor Market that will be located INSIDE of Water Street Inn Ballroom!\nStep inside to warm up and see displays from our partnering sponsors\, and other winter and snow-related vendors! These vendors will be showing & selling items that are related to winter\, snow and event-themed. Grab & go type items – Cash/Card accepted! The World Snow Celebration Snow Store will also be located inside the ballroom to purchase the commemorative event items such as Hats\, Gloves\, T-shirts & more!\n\nWorld Snow Celebration Indoor Market & Warming House – Hours:Friday hours: 3:00 pm-9:00 pmSaturday hours: 10:00 am-5:00 pmSunday hours: 10:00 am-5:00 pm
URL:https://waterstreetinn.loganmarketing.com/event/world-snow-celebration-indoor-market-at-water-street-inn-ballroom/
END:VEVENT
BEGIN:VEVENT
DTSTART;TZID=UTC:20250119T090000
DTEND;TZID=UTC:20250119T103000
DTSTAMP:20260425T172902
CREATED:20250115T213540Z
LAST-MODIFIED:20250115T213540Z
UID:10000306-1737277200-1737282600@waterstreetinn.loganmarketing.com
SUMMARY:World Snow Celebration Pancake Breakfast
DESCRIPTION:Join us for a Pancake Breakfast as part of World Snow Celebration’s Sunday Funday at Charlie’s Restaurant & Irish Pub within Water Street Inn from 9:00am – 10:30am!\n\nMENU:-Three Pancakes and scrambled eggs for $8.95; add Bacon\, sausage or ham for $5-Kids pancake meal one pancake and scrambled eggs $4.00
URL:https://waterstreetinn.loganmarketing.com/event/world-snow-celebration-pancake-breakfast/
END:VEVENT
BEGIN:VEVENT
DTSTART;TZID=UTC:20250119T090000
DTEND;TZID=UTC:20250119T133000
DTSTAMP:20260425T172902
CREATED:20250115T213408Z
LAST-MODIFIED:20250115T213408Z
UID:10000305-1737277200-1737293400@waterstreetinn.loganmarketing.com
SUMMARY:World Snow Celebration Sunday Funday
DESCRIPTION:Join us on Sunday\, January 19th\, 2025 for the World Snow Celebration “Sunday Funday”! The schedule of events is as follows:\n\nPancake BreakfastLocation: Charlie’s Restaurant & Irish Pub | 9:00 AM – 10:30 AM\n\nHospitality Tent:Location: Lowell Park | 10:00 AM – 6:00 PM\n\nIndoor Market:Location: Water Street Inn Ballroom | 10:00 AM – 5:00 PM\n\nSnow Slide:Location: North of the Lift Bridge in Lowell Park | Time: 10:00 AM – 9:00 PM\n\nBingo Brought to you by the Bayport American LegionLocation: Charlie’s Restaurant & Irish Pub | Time: 11:00 AM – 1:00 PM\n\nDJ Mark Haugen:Location: Lowell Park | Time: 11:00 AM – 5:00 PM\n\nPaul Bunyan:Location: Lowell Park| Time: 11:30 AM – 1:30 PM
URL:https://waterstreetinn.loganmarketing.com/event/world-snow-celebration-sunday-funday/
END:VEVENT
BEGIN:VEVENT
DTSTART;TZID=UTC:20250119T110000
DTEND;TZID=UTC:20250119T130000
DTSTAMP:20260425T172902
CREATED:20250115T213659Z
LAST-MODIFIED:20250115T213659Z
UID:10000307-1737284400-1737291600@waterstreetinn.loganmarketing.com
SUMMARY:World Snow Celebration Bingo
DESCRIPTION:Join us for Bingo at Charlie’s Irish Pub within Water Street Inn brought to you by the Bayport American Legion from 11:00am – 1:00pm!
URL:https://waterstreetinn.loganmarketing.com/event/world-snow-celebration-bingo/
END:VEVENT
END:VCALENDAR