BEGIN:VCALENDAR
VERSION:2.0
PRODID:-//Water Street Inn - ECPv6.15.20//NONSGML v1.0//EN
CALSCALE:GREGORIAN
METHOD:PUBLISH
X-WR-CALNAME:Water Street Inn
X-ORIGINAL-URL:https://waterstreetinn.loganmarketing.com
X-WR-CALDESC:Events for Water Street Inn
REFRESH-INTERVAL;VALUE=DURATION:PT1H
X-Robots-Tag:noindex
X-PUBLISHED-TTL:PT1H
BEGIN:VTIMEZONE
TZID:UTC
BEGIN:STANDARD
TZOFFSETFROM:+0000
TZOFFSETTO:+0000
TZNAME:UTC
DTSTART:20240101T000000
END:STANDARD
END:VTIMEZONE
BEGIN:VEVENT
DTSTART;TZID=UTC:20250117T080000
DTEND;TZID=UTC:20250119T170000
DTSTAMP:20260425T172813
CREATED:20250115T213215Z
LAST-MODIFIED:20250115T213215Z
UID:10000304-1737100800-1737306000@waterstreetinn.loganmarketing.com
SUMMARY:World Snow Celebration Indoor Market at Water Street Inn Ballroom
DESCRIPTION:The 4th annual World Snow Celebration features a very popular Indoor Market that will be located INSIDE of Water Street Inn Ballroom!\nStep inside to warm up and see displays from our partnering sponsors\, and other winter and snow-related vendors! These vendors will be showing & selling items that are related to winter\, snow and event-themed. Grab & go type items – Cash/Card accepted! The World Snow Celebration Snow Store will also be located inside the ballroom to purchase the commemorative event items such as Hats\, Gloves\, T-shirts & more!\n\nWorld Snow Celebration Indoor Market & Warming House – Hours:Friday hours: 3:00 pm-9:00 pmSaturday hours: 10:00 am-5:00 pmSunday hours: 10:00 am-5:00 pm
URL:https://waterstreetinn.loganmarketing.com/event/world-snow-celebration-indoor-market-at-water-street-inn-ballroom/
END:VEVENT
BEGIN:VEVENT
DTSTART;TZID=UTC:20250118T190000
DTEND;TZID=UTC:20250118T230000
DTSTAMP:20260425T172813
CREATED:20241220T235738Z
LAST-MODIFIED:20241220T235738Z
UID:10000279-1737226800-1737241200@waterstreetinn.loganmarketing.com
SUMMARY:Prank Williams and the Broken Spoke Live at Charlies Restaurant & Irish Pub
DESCRIPTION:A high-energy Irish/folk band based in Saint Paul\, MN highlighting the sweet stringed sounds of the fiddle\, stand-up bass\, guitar\, and mandolin. Traditional Irish Music and Irish Rock with a twist! Broken Spoke never fail to deliver an outstanding performance that will have you up on your feet before you know it!
URL:https://waterstreetinn.loganmarketing.com/event/prank-williams-and-the-broken-spoke-live-at-charlies-restaurant-irish-pub-2/
ATTACH;FMTTYPE=image/jpeg:https://waterstreetinn.loganmarketing.com/wp-content/uploads/2026/01/354204801_751603206971124_2100205559362048548_n.jpg
END:VEVENT
END:VCALENDAR